Workbook

Sheet อ.1
A1: ชั้นอนุบาลปีที่ 1
A3: ที่ | B3: เลขประจำตัวนักเรียน | C3: ชื่อ - นามสกุล | D3: เลขที่บ้าน | E3: หมู่ | F3: ตำบล | G3: วันเกิด | H3: เบอร์โทรศัพท์ผู้ปกครอง
A4: 1 | B4: 3560 | C4: เด็กชายณัฐภูมินทร์ ยาวิไชย | D4: 79 | E4: 12 | F4: บ้านเหล่า | G4: 241640 | H4: 0923984226 | I4: ชาย | J4: =E4&F4 -> 12บ้านเหล่า
A5: 2 | B5: 3561 | C5: เด็กชายธนดล ไชยคำ | D5: 22 | E5: 2 | F5: บ้านเหล่า | G5: 241777 | H5: 0800546786 | I5: ชาย | J5: =E5&F5 -> 2บ้านเหล่า
A6: 3 | B6: 3562 | C6: เด็กชายภูมิพัฒน์ แซ่จ๋าว | D6: 78 | E6: 12 | F6: บ้านเหล่า | G6: 241572 | H6: 0826420156 | I6: ชาย | J6: =E6&F6 -> 12บ้านเหล่า
A7: 4 | B7: 3563 | C7: เด็กหญิงกัลยทรรศน์ ทูลธรรม | D7: 134 | E7: 14 | F7: บ้านเหล่า | G7: 241659 | H7: 0808390682 | I7: หญิง | J7: =E7&F7 -> 14บ้านเหล่า
A8: 5 | B8: 3564 | C8: เด็กหญิงอภิญญา ประมงคล | D8: 10 | E8: 4 | F8: บ้านเหล่า | G8: 241880 | H8: 0926518452 | I8: หญิง | J8: =E8&F8 -> 4บ้านเหล่า
J9: =E9&F9
J10: =E10&F10
J11: =E11&F11
J12: =E12&F12
J13: =E13&F13
J14: =E14&F14
J15: =E15&F15
J16: =E16&F16
J17: =E17&F17
J18: =E18&F18
J19: =E19&F19
J20: =E20&F20
... J24: =E24&F24
J26: จำนวนนักเรียนแยกตาม | K26: หมู่บ้าน
K27: 1บ้านเหล่า | L27: =COUNTIF(J$4:J$24,K27) -> 0
K28: 2บ้านเหล่า | L28: =COUNTIF(J$4:J$24,K28) -> 1
K29: 3บ้านเหล่า | L29: =COUNTIF(J$4:J$24,K29) -> 0
K30: 4บ้านเหล่า | L30: =COUNTIF(J$4:J$24,K30) -> 1
K31: 12บ้านเหล่า | L31: =COUNTIF(J$4:J$24,K31) -> 2
K32: 14บ้านเหล่า | L32: =COUNTIF(J$4:J$24,K32) -> 1
K33: อื่นๆ | L33: =COUNTA(A4:A24)-SUM(L27:L32) -> 0
K34: sum | L34: =SUM(L27:L33) -> 5
J36: จำนวนนักเรียนแยกตาม | K36: เพศ
K37: ชาย | L37: =COUNTIF(I$4:I$25,K37) -> 3
K38: หญิง | L38: =COUNTIF(I$4:I$25,K38) -> 2
K39: รวม | L39: =L37+L38 -> 5

Sheet อ.2
A1: ชั้นอนุบาลปีที่ 2
A3: ที่ | B3: เลขประจำตัวนักเรียน | C3: ชื่อ - นามสกุล | D3: เลขที่บ้าน | E3: หมู่ | F3: ตำบล | G3: วันเกิด | H3: เบอร์โทรศัพท์ผู้ปกครอง
A4: 1 | B4: 3558 | C4: เด็กชายนาวิน อภิธรรม | D4: 63 | E4: 2 | F4: แม่ใจ | G4: 241390 | H4: 0936787433 | I4: ชาย | J4: =E4&F4 -> 2แม่ใจ
A5: 2 | B5: 3559 | C5: เด็กชายพชร ยิ่งประเสริฐ | D5: 66 | E5: 12 | F5: บ้านเหล่า | G5: 241236 | H5: 0858051593 | I5: ชาย | J5: =E5&F5 -> 12บ้านเหล่า
A6: 3 | B6: 3544 | C6: เด็กชายสุรพัศ อินต๊ะปัญโญ | D6: 23 | E6: 3 | F6: บ้านเหล่า | G6: 241242 | H6: 0657549055 | I6: ชาย | J6: =E6&F6 -> 3บ้านเหล่า
A7: 4 | B7: 3545 | C7: เด็กหญิงเกศรินทร์ ใจลังก๋า | D7: 167 | E7: 4 | F7: บ้านเหล่า | G7: 241202 | H7: 0871859358 | I7: หญิง | J7: =E7&F7 -> 4บ้านเหล่า
A8: 5 | B8: 3546 | C8: เด็กหญิงณัฏฐณิชา ร่างสร้อย | D8: 141 | E8: 14 | F8: บ้านเหล่า | G8: 241507 | H8: 0953870332 | I8: หญิง | J8: =E8&F8 -> 14บ้านเหล่า
A9: 6 | B9: 3547 | C9: เด็กหญิงธัญชนก เมืองมาคำ | D9: 63 | E9: 3 | F9: บ้านเหล่า | G9: 241200 | H9: 0807011041 | I9: หญิง | J9: =E9&F9 -> 3บ้านเหล่า
A10: 7 | B10: 3548 | C10: เด็กหญิงปวีณ์ธิดา ชุมภู | D10: 133 | E10: 4 | F10: บ้านเหล่า | G10: 241208 | H10: 0801265869 | I10: หญิง | J10: =E10&F10 -> 4บ้านเหล่า
A11: 8 | B11: 3549 | C11: เด็กหญิงพัชรพร สีไชย | D11: 29 | E11: 12 | F11: บ้านเหล่า | G11: 241526 | H11: 0817462933 | I11: หญิง | J11: =E11&F11 -> 12บ้านเหล่า
J12: =E12&F12
J13: =E13&F13
J14: =E14&F14
J15: =E15&F15
J16: =E16&F16
J17: =E17&F17
J18: =E18&F18
J19: =E19&F19
J20: =E20&F20
J21: =E21&F21
J22: =E22&F22
J23: =E23&F23
J24: =E24&F24
J26: จำนวนนักเรียนแยกตาม | K26: หมู่บ้าน
K27: 1บ้านเหล่า | L27: =COUNTIF(J$4:J$24,K27) -> 0
K28: 2บ้านเหล่า | L28: =COUNTIF(J$4:J$24,K28) -> 0
K29: 3บ้านเหล่า | L29: =COUNTIF(J$4:J$24,K29) -> 2
K30: 4บ้านเหล่า | L30: =COUNTIF(J$4:J$24,K30) -> 2
K31: 12บ้านเหล่า | L31: =COUNTIF(J$4:J$24,K31) -> 2
K32: 14บ้านเหล่า | L32: =COUNTIF(J$4:J$24,K32) -> 1
K33: อื่นๆ | L33: =COUNTA(A4:A24)-SUM(L27:L32) -> 1
K34: sum | L34: =SUM(L27:L33) -> 8
J36: จำนวนนักเรียนแยกตาม | K36: เพศ
K37: ชาย | L37: =COUNTIF(I$4:I$25,K37) -> 3
K38: หญิง | L38: =COUNTIF(I$4:I$25,K38) -> 5
K39: รวม | L39: =L37+L38 -> 8

Sheet อ.3
A1: ชั้นอนุบาลปีที่ 3
A3: ที่ | B3: เลขประจำตัวนักเรียน | C3: ชื่อ - นามสกุล | D3: เลขที่บ้าน | E3: หมู่ | F3: ตำบล | G3: วันเกิด | H3: เบอร์โทรศัพท์ผู้ปกครอง | I3: เพศ
A4: 1 | B4: 3526 | C4: เด็กชายกรวิชญ์ ปงเทพ | D4: 125 | E4: 14 | F4: บ้านเหล่า | G4: 240921 | H4: 089-9972016 | I4: ชาย | J4: =E4&F4 -> 14บ้านเหล่า
A5: 2 | B5: 3527 | C5: เด็กชายจักรภัทร แก้วมงคล | D5: 22 | E5: 2 | F5: บ้านเหล่า | G5: 240980 | H5: 082-7668490 | I5: ชาย | J5: =E5&F5 -> 2บ้านเหล่า
A6: 3 | B6: 3528 | C6: เด็กชายพิชชานันท์ กันจะนะ | D6: 8 | E6: 3 | F6: บ้านเหล่า | G6: 241194 | H6: 083-0212533 | I6: ชาย | J6: =E6&F6 -> 3บ้านเหล่า
A7: 4 | B7: 3529 | C7: เด็กชายพิชรัชย์ สินเปียง | D7: 82 | E7: 14 | F7: บ้านเหล่า | G7: 241045 | H7: 063-5236935 | I7: ชาย | J7: =E7&F7 -> 14บ้านเหล่า
A8: 5 | B8: 3542 | C8: เด็กชายภาคิน แซ่จ๋าว | D8: 78 | E8: 12 | F8: บ้านเหล่า | G8: 240834 | H8: 097-0895652 | I8: ชาย | J8: =E8&F8 -> 12บ้านเหล่า
A9: 6 | B9: 3530 | C9: เด็กชายสิทธินนท์ ใจลังก๋า | D9: 33 | E9: 4 | F9: บ้านเหล่า | G9: 241170 | H9: 093-3159523 | I9: ชาย | J9: =E9&F9 -> 4บ้านเหล่า
A10: 7 | B10: 3531 | C10: เด็กหญิงชลรดา บัวเขียว | D10: 33 | E10: 4 | F10: บ้านเหล่า | G10: 240891 | H10: 093-3159523 | I10: หญิง | J10: =E10&F10 -> 4บ้านเหล่า
A11: 8 | B11: 3532 | C11: เด็กหญิงนภาวรรณ ทองหล่อ | D11: 113 | E11: 3 | F11: บ้านเหล่า | G11: 240907 | H11: 088-7638366 | I11: หญิง | J11: =E11&F11 -> 3บ้านเหล่า
A12: 9 | B12: 3533 | C12: เด็กหญิงพิชชาภา สายเครือทิ | D12: 7 | E12: 12 | F12: บ้านเหล่า | G12: 241166 | H12: 081-3672604 | I12: หญิง | J12: =E12&F12 -> 12บ้านเหล่า
A13: 10 | B13: 3543 | C13: เด็กหญิงสิลิล ไชยวงค์ | D13: 10 | E13: 12 | F13: บ้านเหล่า | G13: 240870 | H13: 093-2640920 | I13: หญิง | J13: =E13&F13 -> 12บ้านเหล่า
A14: 11 | B14: 3534 | C14: เด็กหญิงอารยา หล้าเป็ง | D14: 55 | E14: 2 | F14: บ้านเหล่า | G14: 240931 | H14: 084-3605880 | I14: หญิง | J14: =E14&F14 -> 2บ้านเหล่า
J15: =E15&F15
J16: =E16&F16
J17: =E17&F17
J18: =E18&F18
J19: =E19&F19
J20: =E20&F20
J21: =E21&F21
J22: =E22&F22
J23: =E23&F23
J24: =E24&F24
J26: จำนวนนักเรียนแยกตาม | K26: หมู่บ้าน
K27: 1บ้านเหล่า | L27: =COUNTIF(J$4:J$24,K27) -> 0
K28: 2บ้านเหล่า | L28: =COUNTIF(J$4:J$24,K28) -> 2
K29: 3บ้านเหล่า | L29: =COUNTIF(J$4:J$24,K29) -> 2
K30: 4บ้านเหล่า | L30: =COUNTIF(J$4:J$24,K30) -> 2
K31: 12บ้านเหล่า | L31: =COUNTIF(J$4:J$24,K31) -> 3
K32: 14บ้านเหล่า | L32: =COUNTIF(J$4:J$24,K32) -> 2
K33: อื่นๆ | L33: =COUNTA(A4:A24)-SUM(L27:L32) -> 0
K34: sum | L34: =SUM(L27:L33) -> 11
J36: จำนวนนักเรียนแยกตาม | K36: เพศ
K37: ชาย | L37: =COUNTIF(I$4:I$25,K37) -> 6
K38: หญิง | L38: =COUNTIF(I$4:I$25,K38) -> 5
K39: รวม | L39: =L37+L38 -> 11

Sheet ป.1
A1: ชั้นประถมศึกษาปีที่ 1
A3: ที่ | B3: เลขประจำตัวนักเรียน | C3: ชื่อ - นามสกุล | D3: เลขที่บ้าน | E3: หมู่ | F3: ตำบล | G3: วันเกิด | H3: เบอร์โทรศัพท์ผู้ปกครอง | I3: เพศ
A4: 1 | B4: 3536 | C4: เด็กชายกรเทพวิชณ์ เดชมนต์ | D4: 80 | E4: 1 | F4: บ้านเหล่า | G4: 240489 | H4: 080-064-7192 | I4: ชาย | J4: =E4&F4 -> 1บ้านเหล่า
A5: 2 | B5: 3520 | C5: เด็กชายกวิน ภาชนนท์ | D5: 79 | E5: 12 | F5: บ้านเหล่า | G5: 240649 | H5: 061-334-7906 | I5: ชาย | J5: =E5&F5 -> 12บ้านเหล่า
A6: 3 | B6: 3521 | C6: เด็กชายณัฐนัย คำฟู | D6: 110 | E6: 4 | F6: บ้านเหล่า | G6: 240624 | H6: 098-7537287 | I6: ชาย | J6: =E6&F6 -> 4บ้านเหล่า
A7: 4 | B7: 3523 | C7: เด็กชายธนภัทร ไคร้งาม | D7: 31 | E7: 2 | F7: บ้านเหล่า | G7: 240613 | H7: 082-6046013 | I7: ชาย | J7: =E7&F7 -> 2บ้านเหล่า
A8: 5 | B8: 3566 | C8: เด็กชายภัทรกร สุภาวะ | D8: 2 | E8: 3 | F8: แม่ใจ | G8: 240751 | H8: 088-2944170 | I8: หญิง | J8: =E9&F9 -> 4บ้านเหล่า
A9: 6 | B9: 3540 | C9: เด็กหญิงปายฟ้า ศิลปี | D9: 146 | E9: 4 | F9: บ้านเหล่า | G9: 240640 | H9: 098-8044046 | I9: หญิง | J9: =E10&F10 -> 12บ้านเหล่า
A10: 7 | B10: 3554 | C10: เด็กหญิงพิมญาดา ท้าวถึง | D10: 114 | E10: 12 | F10: บ้านเหล่า | G10: 240627 | H10: 085-6623227 | I10: หญิง | J10: =E11&F11 -> 4บ้านเหล่า
A11: 8 | B11: 3524 | C11: เด็กหญิงวรัญญา เครือมูล | D11: 48 | E11: 4 | F11: บ้านเหล่า | G11: 240812 | H11: 084-551-6085 | I11: หญิง | J11: =E12&F12 -> 4บ้านเหล่า
A12: 9 | B12: 3525 | C12: เด็กหญิงศุภาพิชญ์ สุจิธรรม | D12: 117 | E12: 4 | F12: บ้านเหล่า | G12: 240585 | H12: 093-1856030 | J12: =E13&F13
J13: =E14&F14
J14: =E15&F15
J15: =E16&F16
J16: =E17&F17
J17: =E18&F18
J18: =E19&F19
J19: =E20&F20
J20: =E21&F21
J21: =E22&F22
J22: =E23&F23
J23: =E24&F24
J24: =E25&F25
J26: จำนวนนักเรียนแยกตาม | K26: หมู่บ้าน
K27: 1บ้านเหล่า | L27: =COUNTIF(J$4:J$24,K27) -> 1
K28: 2บ้านเหล่า | L28: =COUNTIF(J$4:J$24,K28) -> 1
K29: 3บ้านเหล่า | L29: =COUNTIF(J$4:J$24,K29) -> 0
K30: 4บ้านเหล่า | L30: =COUNTIF(J$4:J$24,K30) -> 4
K31: 12บ้านเหล่า | L31: =COUNTIF(J$4:J$24,K31) -> 2
K32: 14บ้านเหล่า | L32: =COUNTIF(J$4:J$24,K32) -> 0
K33: อื่นๆ | L33: =COUNTA(A4:A25)-SUM(L27:L32) -> 1
K34: sum | L34: =SUM(L27:L33) -> 9
J36: จำนวนนักเรียนแยกตาม | K36: เพศ
K37: ชาย | L37: =COUNTIF(I$4:I$25,K37) -> 4
K38: หญิง | L38: =COUNTIF(I$4:I$25,K38) -> 4
K39: รวม | L39: =L37+L38 -> 8

Sheet ป.2
A1: ชั้นประถมศึกษาปีที่ 2
A3: ที่ | B3: เลขประจำตัวนักเรียน | C3: ชื่อ - นามสกุล | D3: เลขที่บ้าน | E3: หมู่ | F3: ตำบล | G3: วันเกิด | H3: เบอร์โทรศัพท์ผู้ปกครอง | I3: เพศ
A4: 1 | B4: 3489 | C4: เด็กชายกิตติเดช อุปะนันท์ | D4: 53 | E4: 4 | F4: บ้านเหล่า | G4: 240376 | H4: 061-301-0878 | I4: ชาย | J4: =E4&F4 -> 4บ้านเหล่า
A5: 2 | B5: 3490 | C5: เด็กชายชนธัญ ขันคำ | D5: 74 | E5: 3 | F5: บ้านเหล่า | G5: 240175 | H5: 061-1810682 | I5: ชาย | J5: =E5&F5 -> 3บ้านเหล่า
A6: 3 | B6: 3491 | C6: เด็กชายชุติพงษ์ ปิงเมือง | D6: 75 | E6: 2 | F6: บ้านเหล่า | G6: 240289 | H6: 063-3350398 | I6: ชาย | J6: =E6&F6 -> 2บ้านเหล่า
A7: 4 | B7: 3519 | C7: เด็กชายฐานิฏฐ์ สินเปียง | D7: 82 | E7: 14 | F7: บ้านเหล่า | G7: 240443 | H7: 063-5236935 | I7: ชาย | J7: =E7&F7 -> 14บ้านเหล่า
A8: 5 | B8: 3503 | C8: เด็กชายณัฐฤทธิ์ ตุ้ยเต็มวงค์ | D8: 90 | E8: 2 | F8: บ้านเหล่า | G8: 240258 | H8: 087-1825133 | I8: ชาย | J8: =E8&F8 -> 2บ้านเหล่า
A9: 6 | B9: 3492 | C9: เด็กชายณัฐวัฒน์ ปวนเต็ม | D9: 16 | E9: 4 | F9: บ้านเหล่า | G9: 240379 | H9: 099-0746608 | I9: ชาย | J9: =E9&F9 -> 4บ้านเหล่า
A10: 7 | B10: 3493 | C10: เด็กชายธนภัทร ปิกจุมปู | D10: 113 | E10: 3 | F10: บ้านเหล่า | G10: 240364 | H10: 095-679-6760 | I10: ชาย | J10: =E10&F10 -> 3บ้านเหล่า
A11: 8 | B11: 3504 | C11: เด็กชายธีรภัทร ทองคำ | D11: 35 | E11: 2 | F11: บ้านเหล่า | G11: 240362 | I11: ชาย | J11: =E11&F11 -> 2บ้านเหล่า
A12: 9 | B12: 3538 | C12: เด็กชายปฏิภาณ สินเปียง | D12: 136 | E12: 14 | F12: บ้านเหล่า | G12: 240254 | H12: 061-2875336 | I12: ชาย | J12: =E12&F12 -> 14บ้านเหล่า
A13: 10 | B13: 3539 | C13: เด็กชายปริญญา วงศ์ใหญ่ | D13: 58 | E13: 12 | F13: บ้านเหล่า | G13: 240379 | H13: 094-6351767 | I13: ชาย | J13: =E13&F13 -> 12บ้านเหล่า
A14: 11 | B14: 3518 | C14: เด็กชายภัคศรัณย์ จันทร์แดง | D14: 1 | E14: 2 | F14: บ้านเหล่า | G14: 240339 | H14: 086-1976018 | I14: ชาย | J14: =E14&F14 -> 2บ้านเหล่า
A15: 12 | B15: 3494 | C15: เด็กชายศุภวิชญ์ ธิลาใจ | D15: 18 | E15: 3 | F15: บ้านเหล่า | G15: 240255 | I15: ชาย | J15: =E15&F15 -> 3บ้านเหล่า
A16: 13 | B16: 3495 | C16: เด็กชายอิทธิพัทธ์ ทูลธรรม | D16: 144 | E16: 3 | F16: บ้านเหล่า | G16: 240290 | H16: 080-8390682 | I16: ชาย | J16: =E16&F16 -> 3บ้านเหล่า
A17: 14 | B17: 3505 | C17: เด็กหญิงกัญญาวีร์ วิลัยบุญ | D17: 134 | E17: 1 | F17: บ้านเหล่า | G17: 240374 | H17: 085-617-5416 | I17: หญิง | J17: =E17&F17 -> 1บ้านเหล่า
A18: 15 | B18: 3507 | C18: เด็กหญิงทักษอร สัญญเขื่อน | D18: 43 | E18: 2 | F18: บ้านเหล่า | G18: 240282 | H18: 083-5773425 | I18: หญิง | J18: =E18&F18 -> 2บ้านเหล่า
A19: 16 | B19: 3508 | C19: เด็กหญิงธัญพร เรืองกิจ | D19: 198 | E19: 2 | F19: บ้านเหล่า | G19: 240203 | I19: หญิง | J19: =E19&F19 -> 2บ้านเหล่า
A20: 17 | B20: 3509 | C20: เด็กหญิงนลัทพร จิโนสา | D20: 46 | E20: 2 | F20: บ้านเหล่า | G20: 240251 | H20: 089-701-1040 | I20: หญิง | J20: =E20&F20 -> 2บ้านเหล่า
A21: 18 | B21: 3498 | C21: เด็กหญิงปภากานต์ เก็ดเรียน | D21: 149 | E21: 4 | F21: บ้านเหล่า | G21: 240425 | H21: 082-306-5640 | I21: หญิง | J21: =E21&F21 -> 4บ้านเหล่า
A22: 19 | B22: 3499 | C22: เด็กหญิงวนิดา แซ่ฟาง | D22: 88 | E22: 4 | F22: บ้านเหล่า | G22: 240162 | H22: 099-8098261 | I22: หญิง | J22: =E22&F22 -> 4บ้านเหล่า
A23: 20 | B23: 3500 | C23: เด็กหญิงศิริรัตน์ มูลสถาน | D23: 27 | E23: 4 | F23: บ้านเหล่า | G23: 240236 | H23: 093-0459934 | I23: หญิง | J23: =E23&F23 -> 4บ้านเหล่า
A24: 21 | B24: 3510 | C24: เด็กหญิงสลิลรดา หล้าเป็ง | D24: 62 | E24: 2 | F24: บ้านเหล่า | G24: 240269 | H24: 082-7668490 | I24: หญิง | J24: =E24&F24 -> 2บ้านเหล่า
J26: จำนวนนักเรียนแยกตาม | K26: หมู่บ้าน
K27: 1บ้านเหล่า | L27: =COUNTIF(J$4:J$24,K27) -> 1
K28: 2บ้านเหล่า | L28: =COUNTIF(J$4:J$24,K28) -> 8
K29: 3บ้านเหล่า | L29: =COUNTIF(J$4:J$24,K29) -> 4
K30: 4บ้านเหล่า | L30: =COUNTIF(J$4:J$24,K30) -> 5
K31: 12บ้านเหล่า | L31: =COUNTIF(J$4:J$24,K31) -> 1
K32: 14บ้านเหล่า | L32: =COUNTIF(J$4:J$24,K32) -> 2
K33: อื่นๆ | L33: =COUNTA(A4:A24)-SUM(L27:L32) -> 0
K34: sum | L34: =SUM(L27:L33) -> 21
J36: จำนวนนักเรียนแยกตาม | K36: เพศ
K37: ชาย | L37: =COUNTIF(I$4:I$25,K37) -> 13
K38: หญิง | L38: =COUNTIF(I$4:I$25,K38) -> 8
K39: รวม | L39: =L37+L38 -> 21

Sheet ป.3
A1: ชั้นประถมศึกษาปีที่ 3
A3: ที่ | B3: เลขประจำตัวนักเรียน | C3: ชื่อ - นามสกุล | D3: เลขที่บ้าน | E3: หมู่ | F3: ตำบล | G3: วันเกิด | H3: เบอร์โทรศัพท์ผู้ปกครอง | I3: เพศ
A4: 1 | B4: 3483 | C4: เด็กชายกรวิชญ์ ปัญญา | D4: 111 | E4: 3 | F4: บ้านเหล่า | G4: 239909 | H4: 084-885-5177 | I4: ชาย | J4: =E4&F4 -> 3บ้านเหล่า
A5: 2 | B5: 3484 | C5: เด็กชายกันตพงศ์ สวยสม | D5: 58 | E5: 2 | F5: บ้านเหล่า | G5: 239773 | H5: 099-275-6369 | I5: ชาย | J5: =E5&F5 -> 2บ้านเหล่า
A6: 3 | B6: 3471 | C6: เด็กชายจิรวัฒน์ เล่ห์รักษ์ | D6: 15 | E6: 3 | F6: บ้านเหล่า | G6: 239859 | H6: 097-969-2258 | I6: ชาย | J6: =E6&F6 -> 3บ้านเหล่า
A7: 4 | B7: 3472 | C7: เด็กชายฐาปกรณ์ เหล่าราชสวน | D7: 76 | E7: 3 | F7: บ้านเหล่า | G7: 239856 | H7: 093-237-0948 | I7: ชาย | J7: =E7&F7 -> 3บ้านเหล่า
A8: 5 | B8: 3535 | C8: เด็กชายปิยังกูร จันทาพูน | D8: 335/2 | E8: 18 | F8: บ้านต๋อม | G8: 240102 | H8: 082-6926794 | I8: ชาย | J8: =E8&F8 -> 18บ้านต๋อม
A9: 6 | B9: 3473 | C9: เด็กชายศิระพล ตะวิจัง | D9: 160 | E9: 12 | F9: บ้านเหล่า | G9: 239963 | H9: 093-253-6765 | I9: ชาย | J9: =E9&F9 -> 12บ้านเหล่า
A10: 7 | B10: 3565 | C10: เด็กชายจิราวัฒน์ ไชยบาล | D10: 103 | E10: 12 | F10: บ้านเหล่า | G10: 240009 | I10: ชาย | J10: =E10&F10 -> 12บ้านเหล่า
A11: 8 | B11: 3476 | C11: เด็กหญิงกชพร ใจลังก๋า | D11: 29 | E11: 4 | F11: บ้านเหล่า | G11: 240028 | H11: 099-269-4097 | I11: หญิง | J11: =E11&F11 -> 4บ้านเหล่า
A12: 9 | B12: 3553 | C12: เด็กหญิงขรินทร์ทิพย์ ตันแก้ว | D12: 148 | E12: 14 | F12: บ้านเหล่า | G12: 239915 | H12: 085-6166978 | I12: หญิง | J12: =E12&F12 -> 14บ้านเหล่า
A13: 10 | B13: 3485 | C13: เด็กหญิงชนวรรณ มณีวันใจ | D13: 107 | E13: 10 | F13: แม่ใจ | G13: 240035 | H13: 099-2694097 | I13: หญิง | J13: =E13&F13 -> 10แม่ใจ
A14: 11 | B14: 3477 | C14: เด็กหญิงชนิดาภา ต่อมดวงแก้ว | D14: 136 | E14: 4 | F14: บ้านเหล่า | G14: 239908 | H14: 095-450-0963 | I14: หญิง | J14: =E14&F14 -> 4บ้านเหล่า
A15: 12 | B15: 3474 | C15: เด็กหญิงณัฎฐธิดา ยาวิไชย | D15: 62 | E15: 12 | F15: บ้านเหล่า | G15: 239878 | H15: 061-3347906 | I15: หญิง | J15: =E15&F15 -> 12บ้านเหล่า
A16: 13 | B16: 3487 | C16: เด็กหญิงนวรัตน์ ปงเทพ | D16: 139 | E16: 14 | F16: บ้านเหล่า | G16: 240049 | H16: 083-8613109 | I16: หญิง | J16: =E16&F16 -> 14บ้านเหล่า
A17: 14 | B17: 3486 | C17: เด็กหญิงปรียภัทร จันตาเรียน | D17: 143 | E17: 4 | F17: บ้านเหล่า | G17: 239930 | H17: 098-3351644 | I17: หญิง | J17: =E17&F17 -> 4บ้านเหล่า
A18: 15 | B18: 3475 | C18: เด็กหญิงพัทธนันท์ ปงเทพ | D18: 17 | E18: 12 | F18: บ้านเหล่า | G18: 239899 | H18: 064-5054237 | I18: หญิง | J18: =E18&F18 -> 12บ้านเหล่า
A19: 16 | B19: 3537 | C19: เด็กหญิงศุจินันท์ แสนไวยากรณ์ | D19: 9999 | E19: 5 | F19: เวียง | G19: 239941 | H19: 098-846-7945 | I19: หญิง | J19: =E19&F19 -> 5เวียง
A20: 17 | B20: 3488 | C20: เด็กหญิงสุนิพร จันทร์ตา | D20: 156 | E20: 4 | F20: บ้านเหล่า | G20: 239767 | I20: หญิง | J20: =E20&F20 -> 4บ้านเหล่า
J21: =E21&F21
J22: =E22&F22
J23: =E23&F23
J24: =E24&F24
J26: จำนวนนักเรียนแยกตาม | K26: หมู่บ้าน
K27: 1บ้านเหล่า | L27: =COUNTIF(J$4:J$24,K27) -> 0
K28: 2บ้านเหล่า | L28: =COUNTIF(J$4:J$24,K28) -> 1
K29: 3บ้านเหล่า | L29: =COUNTIF(J$4:J$24,K29) -> 3
K30: 4บ้านเหล่า | L30: =COUNTIF(J$4:J$24,K30) -> 4
K31: 12บ้านเหล่า | L31: =COUNTIF(J$4:J$24,K31) -> 4
K32: 14บ้านเหล่า | L32: =COUNTIF(J$4:J$24,K32) -> 2
K33: อื่นๆ | L33: =COUNTA(A4:A24)-SUM(L27:L32) -> 3
K34: sum | L34: =SUM(L27:L33) -> 17
J36: จำนวนนักเรียนแยกตาม | K36: เพศ
K37: ชาย | L37: =COUNTIF(I$4:I$25,K37) -> 7
K38: หญิง | L38: =COUNTIF(I$4:I$25,K38) -> 10
K39: รวม | L39: =L37+L38 -> 17

Sheet ป.4
A1: ชั้นประถมศึกษาปีที่ 4
A3: ที่ | B3: เลขประจำตัวนักเรียน | C3: ชื่อ - นามสกุล | D3: เลขที่บ้าน | E3: หมู่ | F3: ตำบล | G3: วันเกิด | H3: เบอร์โทรศัพท์ผู้ปกครอง | I3: เพศ
A4: 1 | B4: 3512 | C4: เด็กชายกฤษดา สินเปียง | D4: 1 | E4: 6 | F4: แม่ใจ | G4: 239503 | H4: 083-940-8632 | I4: ชาย | J4: =E4&F4 -> 6แม่ใจ
A5: 2 | B5: 3513 | C5: เด็กชายปิยวัฒน์ คำอ้าย | D5: 63 | E5: 2 | F5: บ้านเหล่า | G5: 239658 | H5: 084-8761054 | I5: ชาย | J5: =E5&F5 -> 2บ้านเหล่า
A6: 3 | B6: 3466 | C6: เด็กชายฟ้าประทาน ใจแล | D6: 73 | E6: 12 | F6: บ้านเหล่า | G6: 239541 | H6: 082-390-5488 | I6: ชาย | J6: =E6&F6 -> 12บ้านเหล่า
A7: 4 | B7: 3457 | C7: เด็กหญิงจิดาภา อินพุ่ม | D7: 68 | E7: 4 | F7: บ้านเหล่า | G7: 239606 | H7: 084-169-4950 | I7: หญิง | J7: =E7&F7 -> 4บ้านเหล่า
A8: 5 | B8: 3458 | C8: เด็กหญิงชนัณชิดา ชุติธนบูรณ์ | D8: 39 | E8: 12 | F8: บ้านเหล่า | G8: 239632 | H8: 082-9040227 | I8: หญิง | J8: =E8&F8 -> 12บ้านเหล่า
A9: 6 | B9: 3459 | C9: เด็กหญิงชรินทร์ทิพย์ มณีวรรณชัย | D9: 38 | E9: 3 | F9: บ้านเหล่า | G9: 239580 | H9: 094-751-1803 | I9: หญิง | J9: =E9&F9 -> 3บ้านเหล่า
A10: 7 | B10: 3460 | C10: เด็กหญิงณธิดา สิงห์คำ | D10: 5 | E10: 12 | F10: บ้านเหล่า | G10: 239501 | H10: 097-983-3039 | I10: หญิง | J10: =E10&F10 -> 12บ้านเหล่า
A11: 8 | B11: 3462 | C11: เด็กหญิงนันทรัตน์ ชุมภูหมุด | D11: 10 | E11: 3 | F11: บ้านเหล่า | G11: 239720 | H11: 084-613-7874 | I11: หญิง | J11: =E11&F11 -> 3บ้านเหล่า
A12: 9 | B12: 3463 | C12: เด็กหญิงนิภาพร ทองหล่อ | D12: 6 | E12: 2 | F12: บ้านเหล่า | G12: 239550 | H12: 081-022-4796 | I12: หญิง | J12: =E12&F12 -> 2บ้านเหล่า
A13: 10 | B13: 3464 | C13: เด็กหญิงปณิตรา ชุมภู | D13: 133 | E13: 4 | F13: บ้านเหล่า | G13: 239715 | I13: หญิง | J13: =E13&F13 -> 4บ้านเหล่า
A14: 11 | B14: 3465 | C14: เด็กหญิงพิชชา ป๊อกบุญเรือง | D14: 71 | E14: 2 | F14: บ้านเหล่า | G14: 239479 | H14: 087-830-3877 | I14: หญิง | J14: =E15&F15 -> 8แม่ใจ
A15: 12 | B15: 3568 | C15: เด็กหญิงนรีกานต์ สงวนทรัพย์ | D15: 72 | E15: 8 | F15: แม่ใจ | G15: 239556 | H15: 096-561-8868 | J15: =#REF!&#REF! -> #REF!
J16: =#REF!&#REF! -> #REF!
J17: =#REF!&#REF! -> #REF!
J18: =#REF!&#REF! -> #REF!
J19: =E16&F16
J20: =E17&F17
J21: =E18&F18
J22: =E19&F19
J23: =E20&F20
J24: =E21&F21
J26: จำนวนนักเรียนแยกตาม | K26: หมู่บ้าน
K27: 1บ้านเหล่า | L27: =COUNTIF(J$4:J$24,K27) -> 0
K28: 2บ้านเหล่า | L28: =COUNTIF(J$4:J$24,K28) -> 2
K29: 3บ้านเหล่า | L29: =COUNTIF(J$4:J$24,K29) -> 2
K30: 4บ้านเหล่า | L30: =COUNTIF(J$4:J$24,K30) -> 2
K31: 12บ้านเหล่า | L31: =COUNTIF(J$4:J$24,K31) -> 3
K32: 14บ้านเหล่า | L32: =COUNTIF(J$4:J$24,K32) -> 0
K33: อื่นๆ | L33: =COUNTA(A4:A21)-SUM(L27:L32) -> 3
K34: sum | L34: =SUM(L27:L33) -> 12
J36: จำนวนนักเรียนแยกตาม | K36: เพศ
K37: ชาย | L37: =COUNTIF(I$4:I$25,K37) -> 3
K38: หญิง | L38: =COUNTIF(I$4:I$25,K38) -> 8
K39: รวม | L39: =L37+L38 -> 11

Sheet ป.5
A1: ชั้นประถมศึกษาปีที่ 5
A3: ที่ | B3: เลขประจำตัวนักเรียน | C3: ชื่อ - นามสกุล | D3: เลขที่บ้าน | E3: หมู่ | F3: ตำบล | G3: วันเกิด | H3: เบอร์โทรศัพท์ผู้ปกครอง | I3: เพศ
A4: 1 | B4: 3440 | C4: เด็กชายกรวิชญ์ โยธา | D4: 25 | E4: 3 | F4: บ้านเหล่า | G4: 239121 | H4: 082-0409420 | I4: ชาย | J4: =E4&F4 -> 3บ้านเหล่า
A5: 2 | B5: 3441 | C5: เด็กชายณัฐพล ป๊อกบุญเรือง | D5: 71 | E5: 2 | F5: บ้านเหล่า | G5: 239191 | H5: 087-930-3877 | I5: ชาย | J5: =E5&F5 -> 2บ้านเหล่า
A6: 3 | B6: 3442 | C6: เด็กชายณัฐภูมิ ไชยคำ | D6: 22 | E6: 2 | F6: บ้านเหล่า | G6: 239294 | H6: 082-7668490 | I6: ชาย | J6: =E6&F6 -> 2บ้านเหล่า
A7: 4 | B7: 3448 | C7: เด็กชายเทพนรินทร์ ป๊อกบุญเรือง | D7: 79 | E7: 2 | F7: บ้านเหล่า | G7: 239128 | H7: 081-6029202 | I7: ชาย | J7: =E7&F7 -> 2บ้านเหล่า
A8: 5 | B8: 3443 | C8: เด็กชายธีรภัทร หลวงยศ | D8: 79 | E8: 12 | F8: บ้านเหล่า | G8: 239213 | H8: 061-3347906 | I8: ชาย | J8: =E8&F8 -> 12บ้านเหล่า
A9: 6 | B9: 3446 | C9: เด็กชายพงศธร แก้วแสง | D9: 3713/20 | E9: 0 | F9: บางโคล่ | G9: 239188 | H9: 080-052-3825 | I9: ชาย | J9: =E9&F9 -> 0บางโคล่
A10: 7 | B10: 3444 | C10: เด็กชายพงษ์พัฒน์ ช่างล้อ | D10: 94 | E10: 14 | F10: บ้านเหล่า | G10: 239097 | I10: ชาย | J10: =E10&F10 -> 14บ้านเหล่า
A11: 8 | B11: 3445 | C11: เด็กชายพงษ์ศักดิ์ ช่างล้อ | D11: 94 | E11: 14 | F11: บ้านเหล่า | G11: 239097 | I11: ชาย | J11: =E11&F11 -> 14บ้านเหล่า
A12: 9 | B12: 3447 | C12: เด็กชายภูมินันท์ ตะวิจัง | D12: 62 | E12: 12 | F12: บ้านเหล่า | G12: 239106 | I12: ชาย | J12: =E12&F12 -> 12บ้านเหล่า
A13: 10 | B13: 3449 | C13: เด็กชายไมตรี บัวเชย | D13: 111 | E13: 8 | F13: บ้านเหล่า | G13: 238969 | H13: 097-962-1106 | I13: ชาย | J13: =E13&F13 -> 8บ้านเหล่า
A14: 11 | B14: 3482 | C14: เด็กชายวีรากร ศรีแก้ว | D14: 32/1 | E14: 12 | F14: บ้านเหล่า | G14: 239215 | I14: ชาย | J14: =E14&F14 -> 12บ้านเหล่า
A15: 12 | B15: 3567 | C15: เด็กชายเดโชชัย สงวนทรัพย์ | D15: 72 | E15: 2 | F15: แม่ใจ | G15: 239049 | H15: 096-561-8868 | I15: หญิง | J15: =E16&F16 -> 2บ้านเหล่า
A16: 13 | B16: 3451 | C16: เด็กหญิงชนนิกานต์ จุมปาคำ | D16: 100 | E16: 2 | F16: บ้านเหล่า | G16: 239310 | H16: 094-234-9182 | I16: หญิง | J16: =E17&F17 -> 4บ้านเหล่า
A17: 14 | B17: 3516 | C17: เด็กหญิงพิชชาพร สุจิธรรม | D17: 117 | E17: 4 | F17: บ้านเหล่า | G17: 239149 | H17: 093-185-6030 | I17: หญิง | J17: =E18&F18 -> 4บ้านเหล่า
A18: 15 | B18: 3453 | C18: เด็กหญิงภัทรพรรณ ใจจม | D18: 63 | E18: 4 | F18: บ้านเหล่า | G18: 239162 | H18: 082-058-8744 | I18: หญิง | J18: =E19&F19 -> 3บ้านเหล่า
A19: 16 | B19: 3454 | C19: เด็กหญิงวรัญญา สันภูวัน | D19: 11 | E19: 3 | F19: บ้านเหล่า | G19: 239077 | H19: 093-610-2183 | I19: หญิง | J19: =E21&F21 -> 3บ้านเหล่า
A20: 17 | B20: 3455 | C20: เด็กหญิงหทัยกาญจน์ ป๊อกบุญเรือง | D20: 79 | E20: 2 | F20: บ้านเหล่า | G20: 239213 | H20: 081-602-9202 | J20: =E22&F22
A21: 18 | B21: 3469 | C21: เด็กหญิงวิชาดา โลจันทร์ต๊ะ | D21: 159 | E21: 3 | F21: บ้านเหล่า | G21: 239224 | J21: =E23&F23
J22: =E24&F24
J23: =E25&F25
J24: =E26&F26
J26: จำนวนนักเรียนแยกตาม | K26: หมู่บ้าน
K27: 1บ้านเหล่า | L27: =COUNTIF(J$4:J$24,K27) -> 0
K28: 2บ้านเหล่า | L28: =COUNTIF(J$4:J$24,K28) -> 4
K29: 3บ้านเหล่า | L29: =COUNTIF(J$4:J$24,K29) -> 3
K30: 4บ้านเหล่า | L30: =COUNTIF(J$4:J$24,K30) -> 2
K31: 12บ้านเหล่า | L31: =COUNTIF(J$4:J$24,K31) -> 3
K32: 14บ้านเหล่า | L32: =COUNTIF(J$4:J$24,K32) -> 2
K33: อื่นๆ | L33: =COUNTA(A4:A26)-SUM(L27:L32) -> 4
K34: sum | L34: =SUM(L27:L33) -> 18
J36: จำนวนนักเรียนแยกตาม | K36: เพศ
K37: ชาย | L37: =COUNTIF(I$4:I$25,K37) -> 11
K38: หญิง | L38: =COUNTIF(I$4:I$25,K38) -> 5
K39: รวม | L39: =L37+L38 -> 16

Sheet ป.6
A1: ชั้นประถมศึกษาปีที่ 6
A3: ที่ | B3: เลขประจำตัวนักเรียน | C3: ชื่อ - นามสกุล | D3: เลขที่บ้าน | E3: หมู่ | F3: ตำบล | G3: วันเกิด | H3: เบอร์โทรศัพท์ผู้ปกครอง | I3: เพศ | J3: หมู่ที่&ตำบล
A4: 1 | B4: 3480 | C4: เด็กชายจิรพนธ์ อยู่เส็ง | D4: 144 | E4: 3 | F4: บ้านเหล่า | G4: 238627 | H4: 080-839-0682 | I4: ชาย | J4: =E4&F4 -> 3บ้านเหล่า
A5: 2 | B5: 3467 | C5: เด็กชายณัฐวัฒน์ อินพุ่ม | D5: 68 | E5: 4 | F5: บ้านเหล่า | G5: 238991 | H5: 084-169-4950 | I5: ชาย | J5: =E5&F5 -> 4บ้านเหล่า
A6: 3 | B6: 3419 | C6: เด็กชายธเนศพงศ์ วงค์วัน | D6: 106 | E6: 1 | F6: บ้านเหล่า | G6: 238786 | H6: 087-681-0639 | I6: ชาย | J6: =E6&F6 -> 1บ้านเหล่า
A7: 4 | B7: 3420 | C7: เด็กชายปฎิญญา ใจลังก๋า | D7: 47 | E7: 4 | F7: บ้านเหล่า | G7: 238765 | H7: 095-228-7990 | I7: ชาย | J7: =E7&F7 -> 4บ้านเหล่า
A8: 5 | B8: 3421 | C8: เด็กหญิงกนกพร อุปะละ | D8: 172 | E8: 4 | F8: บ้านเหล่า | G8: 238813 | H8: 087-6810639 | I8: หญิง | J8: =E8&F8 -> 4บ้านเหล่า
A9: 6 | B9: 3422 | C9: เด็กหญิงกุลิสรา ใจจม | D9: 76/1 | E9: 2 | F9: ห้วยแก้ว | G9: 238764 | H9: 082-902-0608 | I9: หญิง | J9: =E9&F9 -> 2ห้วยแก้ว
A10: 7 | B10: 3423 | C10: เด็กหญิงของขวัญ แก้วแสง | D10: 28 | E10: 4 | F10: บ้านเหล่า | G10: 238860 | H10: 080-052-3825 | I10: หญิง | J10: =E10&F10 -> 4บ้านเหล่า
A11: 8 | B11: 3424 | C11: เด็กหญิงจิรัชญา สุขสวัสดิ์ | D11: 149 | E11: 12 | F11: บ้านเหล่า | G11: 238650 | H11: 080-181-1704 | I11: หญิง | J11: =E11&F11 -> 12บ้านเหล่า
A12: 9 | B12: 3425 | C12: เด็กหญิงธัญญชนก ไชยเจริญ | D12: 127 | E12: 14 | F12: บ้านเหล่า | G12: 238838 | H12: 086-117-8241 | I12: หญิง | J12: =E12&F12 -> 14บ้านเหล่า
A13: 10 | B13: 3426 | C13: เด็กหญิงนลินญา สุขใส | D13: 168 | E13: 14 | F13: บ้านเหล่า | G13: 238740 | H13: 065-689-2654 | I13: หญิง | J13: =E13&F13 -> 14บ้านเหล่า
A14: 11 | B14: 3427 | C14: เด็กหญิงนันท์นภัส กุลทชาต | D14: 26 | E14: 2 | F14: บ้านเหล่า | G14: 238798 | H14: 095-233-6425 | I14: หญิง | J14: =E14&F14 -> 2บ้านเหล่า
A15: 12 | B15: 3428 | C15: เด็กหญิงศุภารัตน์ อินถา | D15: 24 | E15: 12 | F15: บ้านเหล่า | G15: 238874 | H15: 086-141-9558 | I15: หญิง | J15: =E15&F15 -> 12บ้านเหล่า
A16: 13 | B16: 3429 | C16: เด็กหญิงอรณิชา หงษ์ทอง | D16: 119 | E16: 4 | F16: บ้านเหล่า | G16: 238750 | H16: 094-772-5205 | I16: หญิง | J16: =E16&F16 -> 4บ้านเหล่า
J17: =E17&F17
J18: =E18&F18
J19: =E19&F19
J20: =E20&F20
J21: =E21&F21
J22: =E22&F22
J23: =E23&F23
J24: =E24&F24
J26: จำนวนนักเรียนแยกตาม | K26: หมู่บ้าน
K27: 1บ้านเหล่า | L27: =COUNTIF(J$4:J$24,K27) -> 1
K28: 2บ้านเหล่า | L28: =COUNTIF(J$4:J$24,K28) -> 1
K29: 3บ้านเหล่า | L29: =COUNTIF(J$4:J$24,K29) -> 1
K30: 4บ้านเหล่า | L30: =COUNTIF(J$4:J$24,K30) -> 5
K31: 12บ้านเหล่า | L31: =COUNTIF(J$4:J$24,K31) -> 2
K32: 14บ้านเหล่า | L32: =COUNTIF(J$4:J$24,K32) -> 2
K33: อื่นๆ | L33: =COUNTA(A4:A24)-SUM(L27:L32) -> 1
K34: sum | L34: =SUM(L27:L33) -> 13
J36: จำนวนนักเรียนแยกตาม | K36: เพศ
K37: ชาย | L37: =COUNTIF(I$4:I$25,K37) -> 4
K38: หญิง | L38: =COUNTIF(I$4:I$25,K38) -> 9
K39: รวม | L39: =L37+L38 -> 13

Sheet Sheet1
A2: ข้อมูลจำนวนนักเรียนโรงเรียนบ้านเหล่า ปีการศึกษา 2565 | F2: ข้อมูลจำนวนนักเรียนโรงเรียนบ้านเหล่า ปีการศึกษา 2565
A3: ณ วันที่ 25 ตุลาคม 2565 | F3: ณ วันที่ 25 ตุลาคม 2565
A5: ชั้น | B5: จำนวนนักเรียน | E5: จำนวนห้องเรียน | F5: นักเรียนในเขตพื้นที่บริการโรงเรียน | G5: ต.บ้านเหล่า | M5: นอกเขต ต.บ้านเหล่า | N5: รวม
B6: เพศชาย | C6: เพศหญิง | D6: รวม | G6: หมู่ที่ 1 | H6: หมู่ที่ 2 | I6: หมู่ที่ 3 | J6: หมู่ที่ 4 | K6: หมู่ที่ 12 | L6: หมู่ที่ 14
A7: อนุบาลปีที่ 1 | B7: =อ.1!L37 -> 3 | C7: =อ.1!L38 -> 2 | D7: =SUM(B7:C7) -> 5 | E7: 1 | F7: อนุบาลปีที่ 1 | G7: =อ.1!$L27 -> 0 | H7: =อ.1!$L28 -> 1 | I7: =อ.1!$L29 -> 0 | J7: =อ.1!$L30 -> 1 | K7: =อ.1!$L31 -> 2 | L7: =อ.1!$L32 -> 1 | M7: =อ.1!$L33 -> 0 | N7: =อ.1!$L34 -> 5
A8: อนุบาลปีที่ 2 | B8: =อ.2!L37 -> 3 | C8: =อ.2!L38 -> 5 | D8: =SUM(B8:C8) -> 8 | E8: 1 | F8: อนุบาลปีที่ 2 | G8: =อ.2!$L27 -> 0 | H8: =อ.2!$L28 -> 0 | I8: =อ.2!$L29 -> 2 | J8: =อ.2!$L30 -> 2 | K8: =อ.2!$L31 -> 2 | L8: =อ.2!$L32 -> 1 | M8: =อ.2!$L33 -> 1 | N8: =อ.2!$L34 -> 8
A9: อนุบาลปีที่ 3 | B9: =อ.3!L37 -> 6 | C9: =อ.3!L38 -> 5 | D9: =SUM(B9:C9) -> 11 | E9: 1 | F9: อนุบาลปีที่ 3 | G9: =อ.3!$L27 -> 0 | H9: =อ.3!$L28 -> 2 | I9: =อ.3!$L29 -> 2 | J9: =อ.3!$L30 -> 2 | K9: =อ.3!$L31 -> 3 | L9: =อ.3!$L32 -> 2 | M9: =อ.3!$L33 -> 0 | N9: =อ.3!$L34 -> 11
A10: ประถมศึกษาปีที่ 1 | B10: =ป.1!L37 -> 4 | C10: =ป.1!L38 -> 4 | D10: =SUM(B10:C10) -> 8 | E10: 1 | F10: ประถมศึกษาปีที่ 1 | G10: =ป.1!$L27 -> 1 | H10: =ป.1!$L28 -> 1 | I10: =ป.1!$L29 -> 0 | J10: =ป.1!$L30 -> 4 | K10: =ป.1!$L31 -> 2 | L10: =ป.1!$L32 -> 0 | M10: =ป.1!$L33 -> 1 | N10: =ป.1!$L34 -> 9
A11: ประถมศึกษาปีที่ 2 | B11: =ป.2!L37 -> 13 | C11: =ป.2!L38 -> 8 | D11: =SUM(B11:C11) -> 21 | E11: 1 | F11: ประถมศึกษาปีที่ 2 | G11: =ป.2!$L27 -> 1 | H11: =ป.2!$L28 -> 8 | I11: =ป.2!$L29 -> 4 | J11: =ป.2!$L30 -> 5 | K11: =ป.2!$L31 -> 1 | L11: =ป.2!$L32 -> 2 | M11: =ป.2!$L33 -> 0 | N11: =ป.2!$L34 -> 21
A12: ประถมศึกษาปีที่ 3 | B12: =ป.3!L37 -> 7 | C12: =ป.3!L38 -> 10 | D12: =SUM(B12:C12) -> 17 | E12: 1 | F12: ประถมศึกษาปีที่ 3 | G12: =ป.3!$L27 -> 0 | H12: =ป.3!$L28 -> 1 | I12: =ป.3!$L29 -> 3 | J12: =ป.3!$L30 -> 4 | K12: =ป.3!$L31 -> 4 | L12: =ป.3!$L32 -> 2 | M12: =ป.3!$L33 -> 3 | N12: =ป.3!$L34 -> 17
A13: ประถมศึกษาปีที่ 4 | B13: =ป.4!L37 -> 3 | C13: =ป.4!L38 -> 8 | D13: =SUM(B13:C13) -> 11 | E13: 1 | F13: ประถมศึกษาปีที่ 4 | G13: =ป.4!$L27 -> 0 | H13: =ป.4!$L28 -> 2 | I13: =ป.4!$L29 -> 2 | J13: =ป.4!$L30 -> 2 | K13: =ป.4!$L31 -> 3 | L13: =ป.4!$L32 -> 0 | M13: =ป.4!$L33 -> 3 | N13: =ป.4!$L34 -> 12
A14: ประถมศึกษาปีที่ 5 | B14: =ป.5!L37 -> 11 | C14: =ป.5!L38 -> 5 | D14: =SUM(B14:C14) -> 16 | E14: 1 | F14: ประถมศึกษาปีที่ 5 | G14: =ป.5!$L27 -> 0 | H14: =ป.5!$L28 -> 4 | I14: =ป.5!$L29 -> 3 | J14: =ป.5!$L30 -> 2 | K14: =ป.5!$L31 -> 3 | L14: =ป.5!$L32 -> 2 | M14: =ป.5!$L33 -> 4 | N14: =ป.5!$L34 -> 18
A15: ประถมศึกษาปีที่ 6 | B15: =ป.6!L37 -> 4 | C15: =ป.6!L38 -> 9 | D15: =SUM(B15:C15) -> 13 | E15: 1 | F15: ประถมศึกษาปีที่ 6 | G15: =ป.6!$L27 -> 1 | H15: =ป.6!$L28 -> 1 | I15: =ป.6!$L29 -> 1 | J15: =ป.6!$L30 -> 5 | K15: =ป.6!$L31 -> 2 | L15: =ป.6!$L32 -> 2 | M15: =ป.6!$L33 -> 1 | N15: =ป.6!$L34 -> 13
A16: จำนวนนักเรียนระดับปฐมวัย | B16: =SUM(B7:B9) -> 12 | C16: =SUM(C7:C9) -> 12 | D16: =SUM(B16:C16) -> 24 | E16: =SUM(E7:E9) -> 3 | F16: จำนวนนักเรียนระดับปฐมวัย | G16: =SUM(G7:G9) -> 0 | H16: =SUM(H7:H9) -> 3 | I16: =SUM(I7:I9) -> 4 | J16: =SUM(J7:J9) -> 5 | K16: =SUM(K7:K9) -> 7 | L16: =SUM(L7:L9) -> 4 | M16: =SUM(M7:M9) -> 1 | N16: =SUM(N7:N9) -> 24
A17: จำนวนนักเรียนระดับประถมศึกษา | B17: =SUM(B10:B15) -> 42 | C17: =SUM(C10:C15) -> 44 | D17: =SUM(B17:C17) -> 86 | E17: =SUM(E10:E15) -> 6 | F17: จำนวนนักเรียนระดับประถมศึกษา | G17: =SUM(G10:G15) -> 3 | H17: =SUM(H10:H15) -> 17 | I17: =SUM(I10:I15) -> 13 | J17: =SUM(J10:J15) -> 22 | K17: =SUM(K10:K15) -> 15 | L17: =SUM(L10:L15) -> 8 | M17: =SUM(M10:M15) -> 12 | N17: =SUM(N10:N15) -> 90
A18: จำนวนนักเรียนทั้งหมด | B18: =SUM(B16:B17) -> 54 | C18: =SUM(C16:C17) -> 56 | D18: =SUM(B18:C18) -> 110 | E18: =SUM(E16:E17) -> 9 | F18: จำนวนนักเรียนทั้งหมด | G18: =SUM(G16:G17) -> 3 | H18: =SUM(H16:H17) -> 20 | I18: =SUM(I16:I17) -> 17 | J18: =SUM(J16:J17) -> 27 | K18: =SUM(K16:K17) -> 22 | L18: =SUM(L16:L17) -> 12 | M18: =SUM(M16:M17) -> 13 | N18: =SUM(N16:N17) -> 114
