Workbook

Sheet อ.1
A1: รายชื่อนักเรียนโรงเรียนบ้านเหล่า ปีการศึกษา 2566 | K1: =A1 -> รายชื่อนักเรียนโรงเรียนบ้านเหล่า ปีการศึกษา 2566
A2: ชั้นอนุบาล 1 | M2: =A2 -> ชั้นอนุบาล 1
A3: ที่ | B3: เลขประจำตัวนักเรียน | D3: ชื่อ - | E3: นามสกุล | F3: เลขประจำตัวประชาชน | G3: หมายเหตุ | K3: ที่ | L3: เลขประจำตัวนักเรียน | M3: ชื่อ - นามสกุล | N3: เลขที่บ้าน | O3: หมู่ | P3: ตำบล | Q3: อำเภอ | R3: วันเกิด | S3: เบอร์โทรศัพท์ผู้ปกครอง | V3: ชื่อ | W3: นามสกุล
A4: 1 | B4: 3579 | C4: เด็กชาย | D4: นรภัทร | E4: คำใบศรี | F4: 1-5289-00052-94-6 | K4: 1 | L4: =B4 -> 3579 | M4: =C4&D4&" "&E4 -> เด็กชายนรภัทร คำใบศรี | N4: 199/1 | O4: 10 | P4: วังชิ้น | Q4: วังชิ้น จ.แพร่ | R4: 43734 | T4: =O4&P4 -> 10วังชิ้น | V4: =C4&D4 -> เด็กชายนรภัทร | W4: =E4 -> คำใบศรี
A5: 2 | B5: 3580 | C5: เด็กชาย | D5: พิสิษฐ์ | E5: เล่ห์รักษ์ | F5: 1-1007-04863-24-1 | K5: 2 | L5: =B5 -> 3580 | M5: =C5&D5&" "&E5 -> เด็กชายพิสิษฐ์ เล่ห์รักษ์ | N5: 15 | O5: 3 | P5: บ้านเหล่า | Q5: แม่ใจ | R5: 43854 | T5: =O5&P5 -> 3บ้านเหล่า | V5: =C5&D5 -> เด็กชายพิสิษฐ์ | W5: =E5 -> เล่ห์รักษ์
A6: 3 | B6: 3581 | C6: เด็กชาย | D6: วรุณวาที | E6: ปัญสุวรรณ | F6: 1-5607-00100-53-2 | K6: 3 | L6: =B6 -> 3581 | M6: =C6&D6&" "&E6 -> เด็กชายวรุณวาที ปัญสุวรรณ | N6: 50 | O6: 12 | P6: บ้านเหล่า | Q6: แม่ใจ | R6: 43656 | S6: 0931354673 | T6: =O6&P6 -> 12บ้านเหล่า | V6: =C6&D6 -> เด็กชายวรุณวาที | W6: =E6 -> ปัญสุวรรณ
A7: 4 | B7: 3582 | C7: เด็กชาย | D7: สวัสดิภาพ | E7: หลอดทอง | F7: 1-1010-00724-91-1 | K7: 4 | L7: =B7 -> 3582 | M7: =C7&D7&" "&E7 -> เด็กชายสวัสดิภาพ หลอดทอง | N7: 65 | O7: 3 | P7: แม่ใจ | Q7: แม่ใจ | R7: 43831 | S7: 0844615416 | T7: =O7&P7 -> 3แม่ใจ | V7: =C7&D7 -> เด็กชายสวัสดิภาพ | W7: =E7 -> หลอดทอง
A8: 5 | B8: 3583 | C8: เด็กหญิง | D8: ณัชชา | E8: ใจตรง | F8: 1-5677-00170-10-3 | K8: 5 | L8: =B8 -> 3583 | M8: =C8&D8&" "&E8 -> เด็กหญิงณัชชา ใจตรง | N8: 99 | O8: 2 | P8: แม่ใจ | Q8: แม่ใจ | R8: 43860 | S8: 0884127207 | T8: =O8&P8 -> 2แม่ใจ | V8: =C8&D8 -> เด็กหญิงณัชชา | W8: =E8 -> ใจตรง
A9: 6 | B9: 3584 | C9: เด็กหญิง | D9: พัธนันท์ | E9: ใจเพียร | F9: 1-5677-00165-76-2 | K9: 6 | L9: =B9 -> 3584 | M9: =C9&D9&" "&E9 -> เด็กหญิงพัธนันท์ ใจเพียร | N9: 121 | O9: 4 | P9: บ้านเหล่า | Q9: แม่ใจ | R9: 43766 | T9: =O9&P9 -> 4บ้านเหล่า | V9: =C9&D9 -> เด็กหญิงพัธนันท์ | W9: =E9 -> ใจเพียร
A10: 7 | B10: 3585 | C10: เด็กหญิง | D10: วริศรา | E10: โยธา | F10: 1-5607-00100-59-1 | K10: 7 | L10: =B10 -> 3585 | M10: =C10&D10&" "&E10 -> เด็กหญิงวริศรา โยธา | N10: 112 | O10: 3 | P10: บ้านเหล่า | Q10: แม่ใจ | R10: 43732 | S10: 0882855052 | T10: =O10&P10 -> 3บ้านเหล่า | V10: =C10&D10 -> เด็กหญิงวริศรา | W10: =E10 -> โยธา
A11: 8 | B11: 3586 | C11: เด็กหญิง | D11: อัญญดา | E11: คำเมืองใจ | F11: 1-5607-00100-66-4 | K11: 8 | L11: =B11 -> 3586 | M11: =C11&D11&" "&E11 -> เด็กหญิงอัญญดา คำเมืองใจ | N11: 136 | O11: 4 | P11: บ้านเหล่า | Q11: แม่ใจ | R11: 43889 | S11: 0954500963 | T11: =O11&P11 -> 4บ้านเหล่า | V11: =C11&D11 -> เด็กหญิงอัญญดา | W11: =E11 -> คำเมืองใจ
D18: จำนวนนักเรียนแยกตามเพศ | V18: นักเรียนในเขตพื้นที่บริการโรงเรียน | W18: ต.บ้านเหล่า | AC18: นอกเขต ต.บ้านเหล่า | AD18: รวม
D19: ชาย | E19: หญิง | F19: รวม | W19: 1บ้านเหล่า | X19: 2บ้านเหล่า | Y19: 3บ้านเหล่า | Z19: 4บ้านเหล่า | AA19: 12บ้านเหล่า | AB19: 14บ้านเหล่า
D20: =COUNTIF(C4:C20,"เด็กชาย") -> 4 | E20: =COUNTIF(C4:C20,"เด็กหญิง") -> 4 | F20: =SUBTOTAL(9,D20:E20) -> 8 | W20: =COUNTIF($T4:$T20,W19) -> 0 | X20: =COUNTIF($T4:$T20,X19) -> 0 | Y20: =COUNTIF($T4:$T20,Y19) -> 2 | Z20: =COUNTIF($T4:$T20,Z19) -> 2 | AA20: =COUNTIF($T4:$T20,AA19) -> 1 | AB20: =COUNTIF($T4:$T20,AB19) -> 0 | AC20: =COUNTA($T4:$T20)-SUM(W20:AB20) -> 3 | AD20: =SUBTOTAL(9,W20:AC20) -> 8

Sheet อ.2
A1: รายชื่อนักเรียนโรงเรียนบ้านเหล่า ปีการศึกษา 2566 | K1: =A1 -> รายชื่อนักเรียนโรงเรียนบ้านเหล่า ปีการศึกษา 2566
A2: ชั้นอนุบาล 2 | M2: =A2 -> ชั้นอนุบาล 2
A3: ที่ | B3: เลขประจำตัวนักเรียน | D3: ชื่อ - | E3: นามสกุล | F3: เลขประจำตัวประชาชน | G3: หมายเหตุ | K3: ที่ | L3: เลขประจำตัวนักเรียน | M3: ชื่อ - นามสกุล | N3: เลขที่บ้าน | O3: หมู่ | P3: ตำบล | Q3: อำเภอ | R3: วันเกิด | S3: เบอร์โทรศัพท์ผู้ปกครอง | V3: ชื่อ | W3: นามสกุล
A4: 1 | B4: 3560 | C4: เด็กชาย | D4: ณัฐภูมินทร์ | E4: ยาวิไชย | F4: 1-5677-00147-81-1 | K4: 1 | L4: =B4 -> 3560 | M4: =C4&D4&" "&E4 -> เด็กชายณัฐภูมินทร์ ยาวิไชย | N4: 79 | O4: 12 | P4: บ้านเหล่า | Q4: แม่ใจ | R4: 43313 | S4: 0923984226 | T4: =O4&P4 -> 12บ้านเหล่า | V4: =C4&D4 -> เด็กชายณัฐภูมินทร์ | W4: =E4 -> ยาวิไชย
A5: 2 | B5: 3575 | C5: เด็กชาย | D5: ทักษ์ดนัย | E5: สัญญเขื่อน | F5: 1-5677-00157-35-2 | K5: 2 | L5: =B5 -> 3575 | M5: =C5&D5&" "&E5 -> เด็กชายทักษ์ดนัย สัญญเขื่อน | N5: 43 | O5: 2 | P5: บ้านเหล่า | Q5: แม่ใจ | R5: 43544 | S5: 0823814412 | T5: =O5&P5 -> 2บ้านเหล่า | V5: =C5&D5 -> เด็กชายทักษ์ดนัย | W5: =E5 -> สัญญเขื่อน
A6: 3 | B6: 3561 | C6: เด็กชาย | D6: ธนดล | E6: ไชยคำ | F6: 1-2499-01250-14-1 | K6: 3 | L6: =B6 -> 3561 | M6: =C6&D6&" "&E6 -> เด็กชายธนดล ไชยคำ | N6: 22 | O6: 2 | P6: บ้านเหล่า | Q6: แม่ใจ | R6: 43450 | S6: 0800546786 | T6: =O6&P6 -> 2บ้านเหล่า | V6: =C6&D6 -> เด็กชายธนดล | W6: =E6 -> ไชยคำ
A7: 4 | B7: 3562 | C7: เด็กชาย | D7: ภูมิพัฒน์ | E7: แซ่จ๋าว | F7: 1-5607-00100-34-6 | K7: 4 | L7: =B7 -> 3562 | M7: =C7&D7&" "&E7 -> เด็กชายภูมิพัฒน์ แซ่จ๋าว | N7: 78 | O7: 12 | P7: บ้านเหล่า | Q7: แม่ใจ | R7: 43245 | S7: 0826420156 | T7: =O7&P7 -> 12บ้านเหล่า | V7: =C7&D7 -> เด็กชายภูมิพัฒน์ | W7: =E7 -> แซ่จ๋าว
A8: 5 | B8: 3576 | C8: เด็กหญิง | D8: กฤษชนก | E8: ปัญสุวรรณ | F8: 1-5677-00154-45-1 | K8: 5 | L8: =B8 -> 3576 | M8: =C8&D8&" "&E8 -> เด็กหญิงกฤษชนก ปัญสุวรรณ | N8: 161 | O8: 4 | P8: บ้านเหล่า | Q8: แม่ใจ | R8: 43464 | S8: 0808847406 | T8: =O8&P8 -> 4บ้านเหล่า | V8: =C8&D8 -> เด็กหญิงกฤษชนก | W8: =E8 -> ปัญสุวรรณ
A9: 6 | B9: 3577 | C9: เด็กหญิง | D9: กัญญพัชร | E9: วิลัยบุญ | F9: 1-5677-00152-05-9 | K9: 6 | L9: =B9 -> 3577 | M9: =C9&D9&" "&E9 -> เด็กหญิงกัญญพัชร วิลัยบุญ | N9: 134 | O9: 1 | P9: บ้านเหล่า | Q9: แม่ใจ | R9: 43412 | S9: 0961639716 | T9: =O9&P9 -> 1บ้านเหล่า | V9: =C9&D9 -> เด็กหญิงกัญญพัชร | W9: =E9 -> วิลัยบุญ
A10: 7 | B10: 3563 | C10: เด็กหญิง | D10: กัลยทรรศน์ | E10: ทูลธรรม | F10: 1-5677-00148-75-2 | K10: 7 | L10: =B10 -> 3563 | M10: =C10&D10&" "&E10 -> เด็กหญิงกัลยทรรศน์ ทูลธรรม | N10: 134 | O10: 14 | P10: บ้านเหล่า | Q10: แม่ใจ | R10: 43332 | S10: 0808390682 | T10: =O10&P10 -> 14บ้านเหล่า | V10: =C10&D10 -> เด็กหญิงกัลยทรรศน์ | W10: =E10 -> ทูลธรรม
A11: 8 | B11: 3564 | C11: เด็กหญิง | D11: อภิญญา | E11: ประมงคล | F11: 1-2090-01130-90-5 | K11: 8 | L11: =B11 -> 3564 | M11: =C11&D11&" "&E11 -> เด็กหญิงอภิญญา ประมงคล | N11: 10 | O11: 4 | P11: บ้านเหล่า | Q11: แม่ใจ | R11: 43553 | S11: 0926518452 | T11: =O11&P11 -> 4บ้านเหล่า | V11: =C11&D11 -> เด็กหญิงอภิญญา | W11: =E11 -> ประมงคล
A12: 9 | B12: 3578 | C12: เด็กหญิง | D12: อริยา | E12: เผ่าปินตา | F12: 1-5677-00154-69-8 | K12: 9 | L12: =B12 -> 3578 | M12: =C12&D12&" "&E12 -> เด็กหญิงอริยา เผ่าปินตา | N12: 150 | O12: 3 | P12: บ้านเหล่า | Q12: แม่ใจ | R12: 43471 | S12: 0862179462 | T12: =O12&P12 -> 3บ้านเหล่า | V12: =C12&D12 -> เด็กหญิงอริยา | W12: =E12 -> เผ่าปินตา
D19: จำนวนนักเรียนแยกตามเพศ | V19: นักเรียนในเขตพื้นที่บริการโรงเรียน | W19: ต.บ้านเหล่า | AC19: นอกเขต ต.บ้านเหล่า | AD19: รวม
D20: ชาย | E20: หญิง | F20: รวม | W20: 1บ้านเหล่า | X20: 2บ้านเหล่า | Y20: 3บ้านเหล่า | Z20: 4บ้านเหล่า | AA20: 12บ้านเหล่า | AB20: 14บ้านเหล่า
D21: =COUNTIF(C4:C21,"เด็กชาย") -> 4 | E21: =COUNTIF(C4:C21,"เด็กหญิง") -> 5 | F21: =SUBTOTAL(9,D21:E21) -> 9 | W21: =COUNTIF($T4:$T21,W20) -> 1 | X21: =COUNTIF($T4:$T21,X20) -> 2 | Y21: =COUNTIF($T4:$T21,Y20) -> 1 | Z21: =COUNTIF($T4:$T21,Z20) -> 2 | AA21: =COUNTIF($T4:$T21,AA20) -> 2 | AB21: =COUNTIF($T4:$T21,AB20) -> 1 | AC21: =COUNTA($T4:$T21)-SUM(W21:AB21) -> 0 | AD21: =SUBTOTAL(9,W21:AC21) -> 9

Sheet อ.3
A1: รายชื่อนักเรียนโรงเรียนบ้านเหล่า ปีการศึกษา 2566 | K1: =A1 -> รายชื่อนักเรียนโรงเรียนบ้านเหล่า ปีการศึกษา 2566
A2: ชั้นอนุบาล 3 | M2: =A2 -> ชั้นอนุบาล 3
A3: ที่ | B3: เลขประจำตัวนักเรียน | D3: ชื่อ - | E3: นามสกุล | F3: เลขประจำตัวประชาชน | G3: หมายเหตุ | K3: ที่ | L3: เลขประจำตัวนักเรียน | M3: ชื่อ - นามสกุล | N3: เลขที่บ้าน | O3: หมู่ | P3: ตำบล | Q3: อำเภอ | R3: วันเกิด | S3: เบอร์โทรศัพท์ผู้ปกครอง | V3: ชื่อ | W3: นามสกุล
A4: 1 | B4: 3570 | C4: เด็กชาย | D4: จตุรภัทร | E4: เขตวัง | F4: 1-5799-01878-26-1 | K4: 1 | L4: =B4 -> 3570 | M4: =C4&D4&" "&E4 -> เด็กชายจตุรภัทร เขตวัง | N4: 121 | O4: 14 | P4: บ้านเหล่า | Q4: แม่ใจ | R4: 43060 | S4: 0616692282 | T4: =O4&P4 -> 14บ้านเหล่า | V4: =C4&D4 -> เด็กชายจตุรภัทร | W4: =E4 -> เขตวัง
A5: 2 | B5: 3558 | C5: เด็กชาย | D5: นาวิน | E5: อภิธรรม | F5: 1-5677-00138-07-2 | K5: 2 | L5: =B5 -> 3558 | M5: =C5&D5&" "&E5 -> เด็กชายนาวิน อภิธรรม | N5: 63 | O5: 2 | P5: แม่ใจ | Q5: แม่ใจ | R5: 43063 | S5: 0936787433 | T5: =O5&P5 -> 2แม่ใจ | V5: =C5&D5 -> เด็กชายนาวิน | W5: =E5 -> อภิธรรม
A6: 3 | B6: 3571 | C6: เด็กชาย | D6: พงศภัค | E6: ไชยวงค์ | F6: 1-5677-00136-36-3 | K6: 3 | L6: =B6 -> 3571 | M6: =C6&D6&" "&E6 -> เด็กชายพงศภัค ไชยวงค์ | N6: 79 | O6: 3 | P6: บ้านเหล่า | Q6: แม่ใจ | R6: 43027 | S6: 0545030622 | T6: =O6&P6 -> 3บ้านเหล่า | V6: =C6&D6 -> เด็กชายพงศภัค | W6: =E6 -> ไชยวงค์
A7: 4 | B7: 3544 | C7: เด็กชาย | D7: สุรพัศ | E7: อินต๊ะปัญโญ | F7: 1-5607-00100-15-0 | K7: 4 | L7: =B7 -> 3544 | M7: =C7&D7&" "&E7 -> เด็กชายสุรพัศ อินต๊ะปัญโญ | N7: 23 | O7: 3 | P7: บ้านเหล่า | Q7: แม่ใจ | R7: 42915 | S7: 0657549055 | T7: =O7&P7 -> 3บ้านเหล่า | V7: =C7&D7 -> เด็กชายสุรพัศ | W7: =E7 -> อินต๊ะปัญโญ
A8: 5 | B8: 3572 | C8: เด็กชาย | D8: อาทิวราห์ | E8: สิริวงศ์ใจ | F8: 1-5299-02713-03-7 | K8: 5 | L8: =B8 -> 3572 | M8: =C8&D8&" "&E8 -> เด็กชายอาทิวราห์ สิริวงศ์ใจ | N8: 263 | O8: 2 | P8: บ้านเหล่า | Q8: แม่ใจ | R8: 43070 | S8: 0641684664 | T8: =O8&P8 -> 2บ้านเหล่า | V8: =C8&D8 -> เด็กชายอาทิวราห์ | W8: =E8 -> สิริวงศ์ใจ
A9: 6 | B9: 3545 | C9: เด็กหญิง | D9: เกศรินทร์ | E9: ใจลังก๋า | F9: 1-5677-00129-31-6 | K9: 6 | L9: =B9 -> 3545 | M9: =C9&D9&" "&E9 -> เด็กหญิงเกศรินทร์ ใจลังก๋า | N9: 167 | O9: 4 | P9: บ้านเหล่า | Q9: แม่ใจ | R9: 42875 | S9: 0871859358 | T9: =O9&P9 -> 4บ้านเหล่า | V9: =C9&D9 -> เด็กหญิงเกศรินทร์ | W9: =E9 -> ใจลังก๋า
A10: 7 | B10: 3546 | C10: เด็กหญิง | D10: ณัฏฐณิชา | E10: ร่างสร้อย | F10: 1-5099-67305-11-1 | K10: 7 | L10: =B10 -> 3546 | M10: =C10&D10&" "&E10 -> เด็กหญิงณัฏฐณิชา ร่างสร้อย | N10: 141 | O10: 14 | P10: บ้านเหล่า | Q10: แม่ใจ | R10: 43180 | S10: 0953870332 | T10: =O10&P10 -> 14บ้านเหล่า | V10: =C10&D10 -> เด็กหญิงณัฏฐณิชา | W10: =E10 -> ร่างสร้อย
A11: 8 | B11: 3573 | C11: เด็กหญิง | D11: ญาณัจฉรา | E11: จุมปาคำ | F11: 1-5677-00133-37-2 | K11: 8 | L11: =B11 -> 3573 | M11: =C11&D11&" "&E11 -> เด็กหญิงญาณัจฉรา จุมปาคำ | N11: 110 | O11: 2 | P11: บ้านเหล่า | Q11: แม่ใจ | R11: 42972 | T11: =O11&P11 -> 2บ้านเหล่า | V11: =C11&D11 -> เด็กหญิงญาณัจฉรา | W11: =E11 -> จุมปาคำ
A12: 9 | B12: 3574 | C12: เด็กหญิง | D12: แทนขวัญ | E12: ใจเที่ยง | F12: 1-5599-00739-99-3 | K12: 9 | L12: =B12 -> 3574 | M12: =C12&D12&" "&E12 -> เด็กหญิงแทนขวัญ ใจเที่ยง | N12: 19 | O12: 3 | P12: บ้านเหล่า | Q12: แม่ใจ | R12: 43140 | S12: 0820361409 | T12: =O12&P12 -> 3บ้านเหล่า | V12: =C12&D12 -> เด็กหญิงแทนขวัญ | W12: =E12 -> ใจเที่ยง
A13: 10 | B13: 3547 | C13: เด็กหญิง | D13: ธัญชนก | E13: เมืองมาคำ | F13: 1-5677-00129-28-6 | K13: 10 | L13: =B13 -> 3547 | M13: =C13&D13&" "&E13 -> เด็กหญิงธัญชนก เมืองมาคำ | N13: 63 | O13: 3 | P13: บ้านเหล่า | Q13: แม่ใจ | R13: 42873 | S13: 0807011041 | T13: =O13&P13 -> 3บ้านเหล่า | V13: =C13&D13 -> เด็กหญิงธัญชนก | W13: =E13 -> เมืองมาคำ
A14: 11 | B14: 3548 | C14: เด็กหญิง | D14: ปวีณ์ธิดา | E14: ชุมภู | F14: 1-5677-00129-59-6 | K14: 11 | L14: =B14 -> 3548 | M14: =C14&D14&" "&E14 -> เด็กหญิงปวีณ์ธิดา ชุมภู | N14: 133 | O14: 4 | P14: บ้านเหล่า | Q14: แม่ใจ | R14: 42881 | S14: 0801265869 | T14: =O14&P14 -> 4บ้านเหล่า | V14: =C14&D14 -> เด็กหญิงปวีณ์ธิดา | W14: =E14 -> ชุมภู
A15: 12 | B15: 3549 | C15: เด็กหญิง | D15: พัชรพร | E15: สีไชย | F15: 1-5677-00143-30-1 | K15: 12 | L15: =B15 -> 3549 | M15: =C15&D15&" "&E15 -> เด็กหญิงพัชรพร สีไชย | N15: 29 | O15: 12 | P15: บ้านเหล่า | Q15: แม่ใจ | R15: 43199 | S15: 0817462933 | T15: =O15&P15 -> 12บ้านเหล่า | V15: =C15&D15 -> เด็กหญิงพัชรพร | W15: =E15 -> สีไชย
D21: จำนวนนักเรียนแยกตามเพศ | V21: นักเรียนในเขตพื้นที่บริการโรงเรียน | W21: ต.บ้านเหล่า | AC21: นอกเขต ต.บ้านเหล่า | AD21: รวม
D22: ชาย | E22: หญิง | F22: รวม | W22: 1บ้านเหล่า | X22: 2บ้านเหล่า | Y22: 3บ้านเหล่า | Z22: 4บ้านเหล่า | AA22: 12บ้านเหล่า | AB22: 14บ้านเหล่า
D23: =COUNTIF(C4:C23,"เด็กชาย") -> 5 | E23: =COUNTIF(C4:C23,"เด็กหญิง") -> 7 | F23: =SUBTOTAL(9,D23:E23) -> 12 | W23: =COUNTIF($T4:$T23,W22) -> 0 | X23: =COUNTIF($T4:$T23,X22) -> 2 | Y23: =COUNTIF($T4:$T23,Y22) -> 4 | Z23: =COUNTIF($T4:$T23,Z22) -> 2 | AA23: =COUNTIF($T4:$T23,AA22) -> 1 | AB23: =COUNTIF($T4:$T23,AB22) -> 2 | AC23: =COUNTA($T4:$T23)-SUM(W23:AB23) -> 1 | AD23: =SUBTOTAL(9,W23:AC23) -> 12

Sheet ป.1
A1: รายชื่อนักเรียนโรงเรียนบ้านเหล่า ปีการศึกษา 2566 | K1: =A1 -> รายชื่อนักเรียนโรงเรียนบ้านเหล่า ปีการศึกษา 2566
A2: ชั้นประถมศึกษาปีที่ 1 | M2: =A2 -> ชั้นประถมศึกษาปีที่ 1
A3: ที่ | B3: เลขประจำตัวนักเรียน | D3: ชื่อ - | E3: นามสกุล | F3: เลขประจำตัวประชาชน | G3: หมายเหตุ | K3: ที่ | L3: เลขประจำตัวนักเรียน | M3: ชื่อ - นามสกุล | N3: เลขที่บ้าน | O3: หมู่ | P3: ตำบล | Q3: อำเภอ | R3: วันเกิด | S3: เบอร์โทรศัพท์ผู้ปกครอง | V3: ชื่อ | W3: นามสกุล
A4: 1 | B4: 3526 | C4: เด็กชาย | D4: กรวิชญ์ | E4: ปงเทพ | F4: 1-5677-00116-73-7 | K4: 1 | L4: =B4 -> 3526 | M4: =C4&D4&" "&E4 -> เด็กชายกรวิชญ์ ปงเทพ | N4: 125 | O4: 14 | P4: บ้านเหล่า | Q4: แม่ใจ | R4: 42595 | S4: 089-9972016 | T4: =O4&P4 -> 14บ้านเหล่า | V4: =C4&D4 -> เด็กชายกรวิชญ์ | W4: =E4 -> ปงเทพ
A5: 2 | B5: 3527 | C5: เด็กชาย | D5: จักรภัทร | E5: แก้วมงคล | F5: 1-5677-00119-54-0 | K5: 2 | L5: =B5 -> 3527 | M5: =C5&D5&" "&E5 -> เด็กชายจักรภัทร แก้วมงคล | N5: 22 | O5: 2 | P5: บ้านเหล่า | Q5: แม่ใจ | R5: 42654 | S5: 082-7668490 | T5: =O5&P5 -> 2บ้านเหล่า | V5: =C5&D5 -> เด็กชายจักรภัทร | W5: =E5 -> แก้วมงคล
A6: 3 | B6: 3528 | C6: เด็กชาย | D6: พิชชานันท์ | E6: กันจะนะ | F6: 1-3299-02056-50-0 | K6: 3 | L6: =B6 -> 3528 | M6: =C6&D6&" "&E6 -> เด็กชายพิชชานันท์ กันจะนะ | N6: 8 | O6: 3 | P6: บ้านเหล่า | Q6: แม่ใจ | R6: 42867 | S6: 083-0212533 | T6: =O6&P6 -> 3บ้านเหล่า | V6: =C6&D6 -> เด็กชายพิชชานันท์ | W6: =E6 -> กันจะนะ
A7: 4 | B7: 3529 | C7: เด็กชาย | D7: พิชรัชย์ | E7: สินเปียง | F7: 1-5677-00122-65-6 | K7: 4 | L7: =B7 -> 3529 | M7: =C7&D7&" "&E7 -> เด็กชายพิชรัชย์ สินเปียง | N7: 82 | O7: 14 | P7: บ้านเหล่า | Q7: แม่ใจ | R7: 42719 | S7: 063-5236935 | T7: =O7&P7 -> 14บ้านเหล่า | V7: =C7&D7 -> เด็กชายพิชรัชย์ | W7: =E7 -> สินเปียง
A8: 5 | B8: 3542 | C8: เด็กชาย | D8: ภาคิน | E8: แซ่จ๋าว | F8: 1-5607-00099-90-9 | K8: 5 | L8: =B8 -> 3542 | M8: =C8&D8&" "&E8 -> เด็กชายภาคิน แซ่จ๋าว | N8: 78 | O8: 12 | P8: บ้านเหล่า | Q8: แม่ใจ | R8: 42508 | S8: 097-0895652 | T8: =O8&P8 -> 12บ้านเหล่า | V8: =C8&D8 -> เด็กชายภาคิน | W8: =E8 -> แซ่จ๋าว
A9: 6 | B9: 3569 | C9: เด็กชาย | D9: รชต | E9: ชมภูเมืองชื่น | F9: 1-5677-00116-81-8 | K9: 6 | L9: =B9 -> 3569 | M9: =C9&D9&" "&E9 -> เด็กชายรชต ชมภูเมืองชื่น | N9: 75 | O9: 2 | P9: บ้านเหล่า | Q9: แม่ใจ | R9: 42597 | S9: 0856238025 | T9: =O9&P9 -> 2บ้านเหล่า | V9: =C9&D9 -> เด็กชายรชต | W9: =E9 -> ชมภูเมืองชื่น
A10: 7 | B10: 3530 | C10: เด็กชาย | D10: สิทธินนท์ | E10: ใจลังก๋า | F10: 1-5677-00127-89-5 | K10: 7 | L10: =B10 -> 3530 | M10: =C10&D10&" "&E10 -> เด็กชายสิทธินนท์ ใจลังก๋า | N10: 33 | O10: 4 | P10: บ้านเหล่า | Q10: แม่ใจ | R10: 42843 | S10: 093-3159523 | T10: =O10&P10 -> 4บ้านเหล่า | V10: =C10&D10 -> เด็กชายสิทธินนท์ | W10: =E10 -> ใจลังก๋า
A11: 8 | B11: 3531 | C11: เด็กหญิง | D11: ชลรดา | E11: บัวเขียว | F11: 1-5677-00115-39-1 | K11: 8 | L11: =B11 -> 3531 | M11: =C11&D11&" "&E11 -> เด็กหญิงชลรดา บัวเขียว | N11: 33 | O11: 4 | P11: บ้านเหล่า | Q11: แม่ใจ | R11: 42565 | S11: 093-3159523 | T11: =O11&P11 -> 4บ้านเหล่า | V11: =C11&D11 -> เด็กหญิงชลรดา | W11: =E11 -> บัวเขียว
A12: 9 | B12: 3532 | C12: เด็กหญิง | D12: นภาวรรณ | E12: ทองหล่อ | F12: 1-5677-00116-10-9 | K12: 9 | L12: =B12 -> 3532 | M12: =C12&D12&" "&E12 -> เด็กหญิงนภาวรรณ ทองหล่อ | N12: 113 | O12: 3 | P12: บ้านเหล่า | Q12: แม่ใจ | R12: 42581 | S12: 088-7638366 | T12: =O12&P12 -> 3บ้านเหล่า | V12: =C12&D12 -> เด็กหญิงนภาวรรณ | W12: =E12 -> ทองหล่อ
A13: 10 | B13: 3533 | C13: เด็กหญิง | D13: พิชชาภา | E13: สายเครือทิ | F13: 1-5099-67245-23-2 | K13: 10 | L13: =B13 -> 3533 | M13: =C13&D13&" "&E13 -> เด็กหญิงพิชชาภา สายเครือทิ | N13: 7 | O13: 12 | P13: บ้านเหล่า | Q13: แม่ใจ | R13: 42839 | S13: 081-3672604 | T13: =O13&P13 -> 12บ้านเหล่า | V13: =C13&D13 -> เด็กหญิงพิชชาภา | W13: =E13 -> สายเครือทิ
A14: 11 | B14: 3543 | C14: เด็กหญิง | D14: สิลิล | E14: ไชยวงค์ | F14: 1-5677-00114-37-8 | K14: 11 | L14: =B14 -> 3543 | M14: =C14&D14&" "&E14 -> เด็กหญิงสิลิล ไชยวงค์ | N14: 10 | O14: 12 | P14: บ้านเหล่า | Q14: แม่ใจ | R14: 42544 | S14: 093-2640920 | T14: =O14&P14 -> 12บ้านเหล่า | V14: =C14&D14 -> เด็กหญิงสิลิล | W14: =E14 -> ไชยวงค์
A15: 12 | B15: 3534 | C15: เด็กหญิง | D15: อารยา | E15: หล้าเป็ง | F15: 1-5677-00117-17-2 | K15: 12 | L15: =B15 -> 3534 | M15: =C15&D15&" "&E15 -> เด็กหญิงอารยา หล้าเป็ง | N15: 55 | O15: 2 | P15: บ้านเหล่า | Q15: แม่ใจ | R15: 42605 | S15: 084-3605880 | T15: =O15&P15 -> 2บ้านเหล่า | V15: =C15&D15 -> เด็กหญิงอารยา | W15: =E15 -> หล้าเป็ง
D26: จำนวนนักเรียนแยกตามเพศ | V26: นักเรียนในเขตพื้นที่บริการโรงเรียน | W26: ต.บ้านเหล่า | AC26: นอกเขต ต.บ้านเหล่า | AD26: รวม
D27: ชาย | E27: หญิง | F27: รวม | W27: 1บ้านเหล่า | X27: 2บ้านเหล่า | Y27: 3บ้านเหล่า | Z27: 4บ้านเหล่า | AA27: 12บ้านเหล่า | AB27: 14บ้านเหล่า
D28: =COUNTIF(C4:C28,"เด็กชาย") -> 7 | E28: =COUNTIF(C4:C28,"เด็กหญิง") -> 5 | F28: =SUBTOTAL(9,D28:E28) -> 12 | W28: =COUNTIF($T4:$T28,W27) -> 0 | X28: =COUNTIF($T4:$T28,X27) -> 3 | Y28: =COUNTIF($T4:$T28,Y27) -> 2 | Z28: =COUNTIF($T4:$T28,Z27) -> 2 | AA28: =COUNTIF($T4:$T28,AA27) -> 3 | AB28: =COUNTIF($T4:$T28,AB27) -> 2 | AC28: =COUNTA($T4:$T28)-SUM(W28:AB28) -> 0 | AD28: =SUBTOTAL(9,W28:AC28) -> 12

Sheet ป.2
A1: รายชื่อนักเรียนโรงเรียนบ้านเหล่า ปีการศึกษา 2566 | K1: =A1 -> รายชื่อนักเรียนโรงเรียนบ้านเหล่า ปีการศึกษา 2566
A2: ชั้นประถมศึกษาปีที่ 2 | M2: =A2 -> ชั้นประถมศึกษาปีที่ 2
A3: ที่ | B3: เลขประจำตัวนักเรียน | D3: ชื่อ - | E3: นามสกุล | F3: เลขประจำตัวประชาชน | G3: หมายเหตุ | K3: ที่ | L3: เลขประจำตัวนักเรียน | M3: ชื่อ - นามสกุล | N3: เลขที่บ้าน | O3: หมู่ | P3: ตำบล | Q3: อำเภอ | R3: วันเกิด | S3: เบอร์โทรศัพท์ผู้ปกครอง | V3: ชื่อ | W3: นามสกุล
A4: 1 | B4: 3520 | C4: เด็กชาย | D4: กวิน | E4: ภาชนนท์ | F4: 1-5677-00104-69-1 | K4: 1 | L4: =B4 -> 3520 | M4: =C4&D4&" "&E4 -> เด็กชายกวิน ภาชนนท์ | N4: 79 | O4: 12 | P4: บ้านเหล่า | Q4: แม่ใจ | R4: 42322 | S4: 061-334-7906 | T4: =O4&P4 -> 12บ้านเหล่า | V4: =C4&D4 -> เด็กชายกวิน | W4: =E4 -> ภาชนนท์
A5: 2 | B5: 3521 | C5: เด็กชาย | D5: ณัฐนัย | E5: คำฟู | F5: 1-5607-00099-79-8 | K5: 2 | L5: =B5 -> 3521 | M5: =C5&D5&" "&E5 -> เด็กชายณัฐนัย คำฟู | N5: 110 | O5: 4 | P5: บ้านเหล่า | Q5: แม่ใจ | R5: 42297 | S5: 098-7537287 | T5: =O5&P5 -> 4บ้านเหล่า | V5: =C5&D5 -> เด็กชายณัฐนัย | W5: =E5 -> คำฟู
A6: 3 | B6: 3522 | C6: เด็กชาย | D6: ธนกฤต | E6: สระทองโน | F6: 1-5499-00953-38-3 | K6: 3 | L6: =B6 -> 3522 | M6: =C6&D6&" "&E6 -> เด็กชายธนกฤต สระทองโน | N6: 101 | O6: 4 | P6: บ้านเหล่า | Q6: แม่ใจ | R6: 42198 | S6: 064-830-2535 | T6: =O6&P6 -> 4บ้านเหล่า | V6: =C6&D6 -> เด็กชายธนกฤต | W6: =E6 -> สระทองโน
A7: 4 | B7: 3523 | C7: เด็กชาย | D7: ธนภัทร | E7: ไคร้งาม | F7: 1-5677-00102-97-3 | K7: 4 | L7: =B7 -> 3523 | M7: =C7&D7&" "&E7 -> เด็กชายธนภัทร ไคร้งาม | N7: 31 | O7: 2 | P7: บ้านเหล่า | Q7: แม่ใจ | R7: 42286 | S7: 082-6046013 | T7: =O7&P7 -> 2บ้านเหล่า | V7: =C7&D7 -> เด็กชายธนภัทร | W7: =E7 -> ไคร้งาม
A8: 5 | B8: 3566 | C8: เด็กชาย | D8: ภัทรกร | E8: สุภาวะ | F8: 1-5677-00109-57-9 | K8: 5 | L8: =B8 -> 3566 | M8: =C8&D8&" "&E8 -> เด็กชายภัทรกร สุภาวะ | N8: 2 | O8: 3 | P8: แม่ใจ | Q8: แม่ใจ | R8: 42424 | S8: 088-2944170 | T8: =O8&P8 -> 3แม่ใจ | V8: =C8&D8 -> เด็กชายภัทรกร | W8: =E8 -> สุภาวะ
A9: 6 | B9: 3540 | C9: เด็กหญิง | D9: ปายฟ้า | E9: ศิลปี | F9: 1-5087-00178-05-9 | K9: 6 | L9: =B9 -> 3540 | M9: =C9&D9&" "&E9 -> เด็กหญิงปายฟ้า ศิลปี | N9: 146 | O9: 4 | P9: บ้านเหล่า | Q9: แม่ใจ | R9: 42313 | S9: 098-8044046 | T9: =O9&P9 -> 4บ้านเหล่า | V9: =C9&D9 -> เด็กหญิงปายฟ้า | W9: =E9 -> ศิลปี
A10: 7 | B10: 3554 | C10: เด็กหญิง | D10: พิมญาดา | E10: ท้าวถึง | F10: 1-5677-00103-58-9 | K10: 7 | L10: =B10 -> 3554 | M10: =C10&D10&" "&E10 -> เด็กหญิงพิมญาดา ท้าวถึง | N10: 114 | O10: 12 | P10: บ้านเหล่า | Q10: แม่ใจ | R10: 42300 | S10: 085-6623227 | T10: =O10&P10 -> 12บ้านเหล่า | V10: =C10&D10 -> เด็กหญิงพิมญาดา | W10: =E10 -> ท้าวถึง
A11: 8 | B11: 3524 | C11: เด็กหญิง | D11: วรัญญา | E11: เครือมูล | F11: 1-5677-00112-06-5 | K11: 8 | L11: =B11 -> 3524 | M11: =C11&D11&" "&E11 -> เด็กหญิงวรัญญา เครือมูล | N11: 48 | O11: 4 | P11: บ้านเหล่า | Q11: แม่ใจ | R11: 42486 | S11: 084-551-6085 | T11: =O11&P11 -> 4บ้านเหล่า | V11: =C11&D11 -> เด็กหญิงวรัญญา | W11: =E11 -> เครือมูล
A12: 9 | B12: 3525 | C12: เด็กหญิง | D12: ศุภาพิชญ์ | E12: สุจิธรรม | F12: 1-6490-00050-74-2 | K12: 9 | L12: =B12 -> 3525 | M12: =C12&D12&" "&E12 -> เด็กหญิงศุภาพิชญ์ สุจิธรรม | N12: 117 | O12: 4 | P12: บ้านเหล่า | Q12: แม่ใจ | R12: 42258 | S12: 093-1856030 | T12: =O12&P12 -> 4บ้านเหล่า | V12: =C12&D12 -> เด็กหญิงศุภาพิชญ์ | W12: =E12 -> สุจิธรรม
D26: จำนวนนักเรียนแยกตามเพศ | V26: นักเรียนในเขตพื้นที่บริการโรงเรียน | W26: ต.บ้านเหล่า | AC26: นอกเขต ต.บ้านเหล่า | AD26: รวม
D27: ชาย | E27: หญิง | F27: รวม | W27: 1บ้านเหล่า | X27: 2บ้านเหล่า | Y27: 3บ้านเหล่า | Z27: 4บ้านเหล่า | AA27: 12บ้านเหล่า | AB27: 14บ้านเหล่า
D28: =COUNTIF(C4:C28,"เด็กชาย") -> 5 | E28: =COUNTIF(C4:C28,"เด็กหญิง") -> 4 | F28: =SUBTOTAL(9,D28:E28) -> 9 | W28: =COUNTIF($T4:$T28,W27) -> 0 | X28: =COUNTIF($T4:$T28,X27) -> 1 | Y28: =COUNTIF($T4:$T28,Y27) -> 0 | Z28: =COUNTIF($T4:$T28,Z27) -> 5 | AA28: =COUNTIF($T4:$T28,AA27) -> 2 | AB28: =COUNTIF($T4:$T28,AB27) -> 0 | AC28: =COUNTA($T4:$T28)-SUM(W28:AB28) -> 1 | AD28: =SUBTOTAL(9,W28:AC28) -> 9

Sheet ป.3
A1: รายชื่อนักเรียนโรงเรียนบ้านเหล่า ปีการศึกษา 2566 | K1: =A1 -> รายชื่อนักเรียนโรงเรียนบ้านเหล่า ปีการศึกษา 2566
A2: ชั้นประถมศึกษาปีที่ 3 | M2: =A2 -> ชั้นประถมศึกษาปีที่ 3
A3: ที่ | B3: เลขประจำตัวนักเรียน | D3: ชื่อ - | E3: นามสกุล | F3: เลขประจำตัวประชาชน | G3: หมายเหตุ | K3: ที่ | L3: เลขประจำตัวนักเรียน | M3: ชื่อ - นามสกุล | N3: เลขที่บ้าน | O3: หมู่ | P3: ตำบล | Q3: อำเภอ | R3: วันเกิด | S3: เบอร์โทรศัพท์ผู้ปกครอง | V3: ชื่อ | W3: นามสกุล
A4: 1 | B4: 3489 | C4: เด็กชาย | D4: กิตติเดช | E4: อุปะนันท์ | F4: 1-5677-00092-65-0 | K4: 1 | L4: =B4 -> 3489 | M4: =C4&D4&" "&E4 -> เด็กชายกิตติเดช อุปะนันท์ | N4: 53 | O4: 4 | P4: บ้านเหล่า | Q4: แม่ใจ | R4: 42049 | S4: 061-301-0878 | T4: =O4&P4 -> 4บ้านเหล่า | V4: =C4&D4 -> เด็กชายกิตติเดช | W4: =E4 -> อุปะนันท์
A5: 2 | B5: 3490 | C5: เด็กชาย | D5: ชนธัญ | E5: ขันคำ | F5: 1-5607-00099-32-1 | K5: 2 | L5: =B5 -> 3490 | M5: =C5&D5&" "&E5 -> เด็กชายชนธัญ ขันคำ | N5: 74 | O5: 3 | P5: บ้านเหล่า | Q5: แม่ใจ | R5: 41848 | S5: 061-1810682 | T5: =O5&P5 -> 3บ้านเหล่า | V5: =C5&D5 -> เด็กชายชนธัญ | W5: =E5 -> ขันคำ
A6: 3 | B6: 3519 | C6: เด็กชาย | D6: ฐานิฏฐ์ | E6: สินเปียง | F6: 1-5677-00095-40-3 | K6: 3 | L6: =B6 -> 3519 | M6: =C6&D6&" "&E6 -> เด็กชายฐานิฏฐ์ สินเปียง | N6: 82 | O6: 14 | P6: บ้านเหล่า | Q6: แม่ใจ | R6: 42116 | S6: 063-5236935 | T6: =O6&P6 -> 14บ้านเหล่า | V6: =C6&D6 -> เด็กชายฐานิฏฐ์ | W6: =E6 -> สินเปียง
A7: 4 | B7: 3503 | C7: เด็กชาย | D7: ณัฐฤทธิ์ | E7: ตุ้ยเต็มวงค์ | F7: 1-5799-01683-52-5 | K7: 4 | L7: =B7 -> 3503 | M7: =C7&D7&" "&E7 -> เด็กชายณัฐฤทธิ์ ตุ้ยเต็มวงค์ | N7: 90 | O7: 2 | P7: บ้านเหล่า | Q7: แม่ใจ | R7: 41931 | S7: 087-1825133 | T7: =O7&P7 -> 2บ้านเหล่า | V7: =C7&D7 -> เด็กชายณัฐฤทธิ์ | W7: =E7 -> ตุ้ยเต็มวงค์
A8: 5 | B8: 3492 | C8: เด็กชาย | D8: ณัฐวัฒน์ | E8: ปวนเต็ม | F8: 1-5677-00092-83-8 | K8: 5 | L8: =B8 -> 3492 | M8: =C8&D8&" "&E8 -> เด็กชายณัฐวัฒน์ ปวนเต็ม | N8: 16 | O8: 4 | P8: บ้านเหล่า | Q8: แม่ใจ | R8: 42052 | S8: 099-0746608 | T8: =O8&P8 -> 4บ้านเหล่า | V8: =C8&D8 -> เด็กชายณัฐวัฒน์ | W8: =E8 -> ปวนเต็ม
A9: 6 | B9: 3493 | C9: เด็กชาย | D9: ธนภัทร | E9: ปิกจุมปู | F9: 1-5677-00092-11-1 | K9: 6 | L9: =B9 -> 3493 | M9: =C9&D9&" "&E9 -> เด็กชายธนภัทร ปิกจุมปู | N9: 113 | O9: 3 | P9: บ้านเหล่า | Q9: แม่ใจ | R9: 42037 | S9: 095-679-6760 | T9: =O9&P9 -> 3บ้านเหล่า | V9: =C9&D9 -> เด็กชายธนภัทร | W9: =E9 -> ปิกจุมปู
A10: 7 | B10: 3504 | C10: เด็กชาย | D10: ธีรภัทร | E10: ทองคำ | F10: 1-1007-04541-42-1 | K10: 7 | L10: =B10 -> 3504 | M10: =C10&D10&" "&E10 -> เด็กชายธีรภัทร ทองคำ | N10: 35 | O10: 2 | P10: บ้านเหล่า | Q10: แม่ใจ | R10: 42035 | T10: =O10&P10 -> 2บ้านเหล่า | V10: =C10&D10 -> เด็กชายธีรภัทร | W10: =E10 -> ทองคำ
A11: 8 | B11: 3538 | C11: เด็กชาย | D11: ปฏิภาณ | E11: สินเปียง | F11: 1-5677-00086-83-8 | K11: 8 | L11: =B11 -> 3538 | M11: =C11&D11&" "&E11 -> เด็กชายปฏิภาณ สินเปียง | N11: 136 | O11: 14 | P11: บ้านเหล่า | Q11: แม่ใจ | R11: 41927 | S11: 061-2875336 | T11: =O11&P11 -> 14บ้านเหล่า | V11: =C11&D11 -> เด็กชายปฏิภาณ | W11: =E11 -> สินเปียง
A12: 9 | B12: 3539 | C12: เด็กชาย | D12: ปริญญา | E12: วงศ์ใหญ่ | F12: 1-5603-01576-41-0 | K12: 9 | L12: =B12 -> 3539 | M12: =C12&D12&" "&E12 -> เด็กชายปริญญา วงศ์ใหญ่ | N12: 58 | O12: 12 | P12: บ้านเหล่า | Q12: แม่ใจ | R12: 42052 | S12: 094-6351767 | T12: =O12&P12 -> 12บ้านเหล่า | V12: =C12&D12 -> เด็กชายปริญญา | W12: =E12 -> วงศ์ใหญ่
A13: 10 | B13: 3494 | C13: เด็กชาย | D13: ศุภวิชญ์ | E13: ธิลาใจ | F13: 1-5607-00099-43-7 | K13: 10 | L13: =B13 -> 3494 | M13: =C13&D13&" "&E13 -> เด็กชายศุภวิชญ์ ธิลาใจ | N13: 18 | O13: 3 | P13: บ้านเหล่า | Q13: แม่ใจ | R13: 41928 | T13: =O13&P13 -> 3บ้านเหล่า | V13: =C13&D13 -> เด็กชายศุภวิชญ์ | W13: =E13 -> ธิลาใจ
A14: 11 | B14: 3495 | C14: เด็กชาย | D14: อิทธิพัทธ์ | E14: ทูลธรรม | F14: 1-2194-00070-75-2 | K14: 11 | L14: =B14 -> 3495 | M14: =C14&D14&" "&E14 -> เด็กชายอิทธิพัทธ์ ทูลธรรม | N14: 144 | O14: 3 | P14: บ้านเหล่า | Q14: แม่ใจ | R14: 41963 | S14: 080-8390682 | T14: =O14&P14 -> 3บ้านเหล่า | V14: =C14&D14 -> เด็กชายอิทธิพัทธ์ | W14: =E14 -> ทูลธรรม
A15: 12 | B15: 3505 | C15: เด็กหญิง | D15: กัญญาวีร์ | E15: วิลัยบุญ | F15: 1-5599-00680-57-3 | K15: 12 | L15: =B15 -> 3505 | M15: =C15&D15&" "&E15 -> เด็กหญิงกัญญาวีร์ วิลัยบุญ | N15: 134 | O15: 1 | P15: บ้านเหล่า | Q15: แม่ใจ | R15: 42047 | S15: 085-617-5416 | T15: =O15&P15 -> 1บ้านเหล่า | V15: =C15&D15 -> เด็กหญิงกัญญาวีร์ | W15: =E15 -> วิลัยบุญ
A16: 13 | B16: 3508 | C16: เด็กหญิง | D16: ธัญพร | E16: เรืองกิจ | F16: 1-5677-00084-41-0 | K16: 13 | L16: =B16 -> 3508 | M16: =C16&D16&" "&E16 -> เด็กหญิงธัญพร เรืองกิจ | N16: 198 | O16: 2 | P16: บ้านเหล่า | Q16: แม่ใจ | R16: 41876 | T16: =O16&P16 -> 2บ้านเหล่า | V16: =C16&D16 -> เด็กหญิงธัญพร | W16: =E16 -> เรืองกิจ
A17: 14 | B17: 3509 | C17: เด็กหญิง | D17: นลัทพร | E17: จิโนสา | F17: 1-5677-00086-75-7 | K17: 14 | L17: =B17 -> 3509 | M17: =C17&D17&" "&E17 -> เด็กหญิงนลัทพร จิโนสา | N17: 46 | O17: 2 | P17: บ้านเหล่า | Q17: แม่ใจ | R17: 41924 | S17: 089-701-1040 | T17: =O17&P17 -> 2บ้านเหล่า | V17: =C17&D17 -> เด็กหญิงนลัทพร | W17: =E17 -> จิโนสา
A18: 15 | B18: 3498 | C18: เด็กหญิง | D18: ปภากานต์ | E18: เก็ดเรียน | F18: 1-5677-00094-70-9 | K18: 15 | L18: =B18 -> 3498 | M18: =C18&D18&" "&E18 -> เด็กหญิงปภากานต์ เก็ดเรียน | N18: 149 | O18: 4 | P18: บ้านเหล่า | Q18: แม่ใจ | R18: 42098 | S18: 082-306-5640 | T18: =O18&P18 -> 4บ้านเหล่า | V18: =C18&D18 -> เด็กหญิงปภากานต์ | W18: =E18 -> เก็ดเรียน
A19: 16 | B19: 3499 | C19: เด็กหญิง | D19: วนิดา | E19: แซ่ฟาง | F19: 1-2096-01876-06-1 | K19: 16 | L19: =B19 -> 3499 | M19: =C19&D19&" "&E19 -> เด็กหญิงวนิดา แซ่ฟาง | N19: 88 | O19: 4 | P19: บ้านเหล่า | Q19: แม่ใจ | R19: 41835 | S19: 099-8098261 | T19: =O19&P19 -> 4บ้านเหล่า | V19: =C19&D19 -> เด็กหญิงวนิดา | W19: =E19 -> แซ่ฟาง
A20: 17 | B20: 3500 | C20: เด็กหญิง | D20: ศิริรัตน์ | E20: มูลสถาน | F20: 1-5677-00085-95-5 | K20: 17 | L20: =B20 -> 3500 | M20: =C20&D20&" "&E20 -> เด็กหญิงศิริรัตน์ มูลสถาน | N20: 27 | O20: 4 | P20: บ้านเหล่า | Q20: แม่ใจ | R20: 41909 | S20: 093-0459934 | T20: =O20&P20 -> 4บ้านเหล่า | V20: =C20&D20 -> เด็กหญิงศิริรัตน์ | W20: =E20 -> มูลสถาน
A21: 18 | B21: 3510 | C21: เด็กหญิง | D21: สลิลรดา | E21: หล้าเป็ง | F21: 1-5769-00003-07-2 | K21: 18 | L21: =B21 -> 3510 | M21: =C21&D21&" "&E21 -> เด็กหญิงสลิลรดา หล้าเป็ง | N21: 62 | O21: 2 | P21: บ้านเหล่า | Q21: แม่ใจ | R21: 41942 | S21: 082-7668490 | T21: =O21&P21 -> 2บ้านเหล่า | V21: =C21&D21 -> เด็กหญิงสลิลรดา | W21: =E21 -> หล้าเป็ง
D23: จำนวนนักเรียนแยกตามเพศ | V23: นักเรียนในเขตพื้นที่บริการโรงเรียน | W23: ต.บ้านเหล่า | AC23: นอกเขต ต.บ้านเหล่า | AD23: รวม
D24: ชาย | E24: หญิง | F24: รวม | W24: 1บ้านเหล่า | X24: 2บ้านเหล่า | Y24: 3บ้านเหล่า | Z24: 4บ้านเหล่า | AA24: 12บ้านเหล่า | AB24: 14บ้านเหล่า
D25: =COUNTIF(C4:C25,"เด็กชาย") -> 11 | E25: =COUNTIF(C4:C25,"เด็กหญิง") -> 7 | F25: =SUBTOTAL(9,D25:E25) -> 18 | W25: =COUNTIF($T4:$T25,W24) -> 1 | X25: =COUNTIF($T4:$T25,X24) -> 5 | Y25: =COUNTIF($T4:$T25,Y24) -> 4 | Z25: =COUNTIF($T4:$T25,Z24) -> 5 | AA25: =COUNTIF($T4:$T25,AA24) -> 1 | AB25: =COUNTIF($T4:$T25,AB24) -> 2 | AC25: =COUNTA($T4:$T25)-SUM(W25:AB25) -> 0 | AD25: =SUBTOTAL(9,W25:AC25) -> 18

Sheet ป.4
A1: รายชื่อนักเรียนโรงเรียนบ้านเหล่า ปีการศึกษา 2566 | K1: =A1 -> รายชื่อนักเรียนโรงเรียนบ้านเหล่า ปีการศึกษา 2566
A2: ชั้นประถมศึกษาปีที่ 4 | M2: =A2 -> ชั้นประถมศึกษาปีที่ 4
A3: ที่ | B3: เลขประจำตัวนักเรียน | D3: ชื่อ - | E3: นามสกุล | F3: เลขประจำตัวประชาชน | G3: หมายเหตุ | K3: ที่ | L3: เลขประจำตัวนักเรียน | M3: ชื่อ - นามสกุล | N3: เลขที่บ้าน | O3: หมู่ | P3: ตำบล | Q3: อำเภอ | R3: วันเกิด | S3: เบอร์โทรศัพท์ผู้ปกครอง | V3: ชื่อ | W3: นามสกุล
A4: 1 | B4: 3483 | C4: เด็กชาย | D4: กรวิชญ์ | E4: ปัญญา | F4: 1-5677-00070-94-0 | K4: 1 | L4: =B4 -> 3483 | M4: =C4&D4&" "&E4 -> เด็กชายกรวิชญ์ ปัญญา | N4: 111 | O4: 3 | P4: บ้านเหล่า | Q4: แม่ใจ | R4: 41582 | S4: 084-885-5177 | T4: =O4&P4 -> 3บ้านเหล่า | V4: =C4&D4 -> เด็กชายกรวิชญ์ | W4: =E4 -> ปัญญา
A5: 2 | B5: 3484 | C5: เด็กชาย | D5: กันตพงศ์ | E5: สวยสม | F5: 1-5603-01552-52-9 | K5: 2 | L5: =B5 -> 3484 | M5: =C5&D5&" "&E5 -> เด็กชายกันตพงศ์ สวยสม | N5: 58 | O5: 2 | P5: บ้านเหล่า | Q5: แม่ใจ | R5: 41446 | S5: 099-275-6369 | T5: =O5&P5 -> 2บ้านเหล่า | V5: =C5&D5 -> เด็กชายกันตพงศ์ | W5: =E5 -> สวยสม
A6: 3 | B6: 3471 | C6: เด็กชาย | D6: จิรวัฒน์ | E6: เล่ห์รักษ์ | F6: 1-5788-00089-76-7 | K6: 3 | L6: =B6 -> 3471 | M6: =C6&D6&" "&E6 -> เด็กชายจิรวัฒน์ เล่ห์รักษ์ | N6: 15 | O6: 3 | P6: บ้านเหล่า | Q6: แม่ใจ | R6: 42628 | S6: 097-969-2258 | T6: =O6&P6 -> 3บ้านเหล่า | V6: =C6&D6 -> เด็กชายจิรวัฒน์ | W6: =E6 -> เล่ห์รักษ์
A7: 4 | B7: 3565 | C7: เด็กชาย | D7: จิราวัฒน์ | E7: ไชยบาล | F7: 1-5677-00075-32-1 | K7: 4 | L7: =B7 -> 3565 | M7: =C7&D7&" "&E7 -> เด็กชายจิราวัฒน์ ไชยบาล | N7: 103 | O7: 12 | P7: บ้านเหล่า | Q7: แม่ใจ | R7: 41682 | T7: =O7&P7 -> 12บ้านเหล่า | V7: =C7&D7 -> เด็กชายจิราวัฒน์ | W7: =E7 -> ไชยบาล
A8: 5 | B8: 3472 | C8: เด็กชาย | D8: ฐาปกรณ์ | E8: เหล่าราชสวน | F8: 1-5677-00067-99-0 | K8: 5 | L8: =B8 -> 3472 | M8: =C8&D8&" "&E8 -> เด็กชายฐาปกรณ์ เหล่าราชสวน | N8: 76 | O8: 3 | P8: บ้านเหล่า | Q8: แม่ใจ | R8: 41529 | S8: 093-237-0948 | T8: =O8&P8 -> 3บ้านเหล่า | V8: =C8&D8 -> เด็กชายฐาปกรณ์ | W8: =E8 -> เหล่าราชสวน
A9: 6 | B9: 3535 | C9: เด็กชาย | D9: ปิยังกูร | E9: จันทาพูน | F9: 1-5677-00079-72-6 | K9: 6 | L9: =B9 -> 3535 | M9: =C9&D9&" "&E9 -> เด็กชายปิยังกูร จันทาพูน | N9: 335/2 | O9: 18 | P9: บ้านต๋อม | Q9: เมืองพะเยา | R9: 41775 | S9: 082-6926794 | T9: =O9&P9 -> 18บ้านต๋อม | V9: =C9&D9 -> เด็กชายปิยังกูร | W9: =E9 -> จันทาพูน
A10: 7 | B10: 3511 | C10: เด็กชาย | D10: รชานนท์ | E10: สระทองโน | F10: 1-5499-00902-95-9 | K10: 7 | L10: =B10 -> 3511 | M10: =C10&D10&" "&E10 -> เด็กชายรชานนท์ สระทองโน | N10: 101 | O10: 4 | P10: บ้านเหล่า | Q10: แม่ใจ | R10: 41419 | T10: =O10&P10 -> 4บ้านเหล่า | V10: =C10&D10 -> เด็กชายรชานนท์ | W10: =E10 -> สระทองโน
A11: 8 | B11: 3473 | C11: เด็กชาย | D11: ศิระพล | E11: ตะวิจัง | F11: 1-5677-00073-37-0 | K11: 8 | L11: =B11 -> 3473 | M11: =C11&D11&" "&E11 -> เด็กชายศิระพล ตะวิจัง | N11: 160 | O11: 12 | P11: บ้านเหล่า | Q11: แม่ใจ | R11: 41636 | S11: 093-253-6765 | T11: =O11&P11 -> 12บ้านเหล่า | V11: =C11&D11 -> เด็กชายศิระพล | W11: =E11 -> ตะวิจัง
A12: 9 | B12: 3476 | C12: เด็กหญิง | D12: กชพร | E12: ใจลังก๋า | F12: 1-5677-00076-19-1 | K12: 9 | L12: =B12 -> 3476 | M12: =C12&D12&" "&E12 -> เด็กหญิงกชพร ใจลังก๋า | N12: 29 | O12: 4 | P12: บ้านเหล่า | Q12: แม่ใจ | R12: 41701 | S12: 099-269-4097 | T12: =O12&P12 -> 4บ้านเหล่า | V12: =C12&D12 -> เด็กหญิงกชพร | W12: =E12 -> ใจลังก๋า
A13: 10 | B13: 3553 | C13: เด็กหญิง | D13: ขรินทร์ทิพย์ | E13: ตันแก้ว | F13: 1-5705-01363-73-8 | K13: 10 | L13: =B13 -> 3553 | M13: =C13&D13&" "&E13 -> เด็กหญิงขรินทร์ทิพย์ ตันแก้ว | N13: 148 | O13: 14 | P13: บ้านเหล่า | Q13: แม่ใจ | R13: 41588 | S13: 085-6166978 | T13: =O13&P13 -> 14บ้านเหล่า | V13: =C13&D13 -> เด็กหญิงขรินทร์ทิพย์ | W13: =E13 -> ตันแก้ว
A14: 11 | B14: 3485 | C14: เด็กหญิง | D14: ชนวรรณ | E14: มณีวันใจ | F14: 1-5677-00076-52-2 | K14: 11 | L14: =B14 -> 3485 | M14: =C14&D14&" "&E14 -> เด็กหญิงชนวรรณ มณีวันใจ | N14: 107 | O14: 10 | P14: แม่ใจ | Q14: แม่ใจ | R14: 41708 | S14: 099-2694097 | T14: =O14&P14 -> 10แม่ใจ | V14: =C14&D14 -> เด็กหญิงชนวรรณ | W14: =E14 -> มณีวันใจ
A15: 12 | B15: 3477 | C15: เด็กหญิง | D15: ชนิดาภา | E15: ต่อมดวงแก้ว | F15: 1-5607-00099-01-1 | K15: 12 | L15: =B15 -> 3477 | M15: =C15&D15&" "&E15 -> เด็กหญิงชนิดาภา ต่อมดวงแก้ว | N15: 136 | O15: 4 | P15: บ้านเหล่า | Q15: แม่ใจ | R15: 41581 | S15: 095-450-0963 | T15: =O15&P15 -> 4บ้านเหล่า | V15: =C15&D15 -> เด็กหญิงชนิดาภา | W15: =E15 -> ต่อมดวงแก้ว
A16: 13 | B16: 3474 | C16: เด็กหญิง | D16: ณัฎฐธิดา | E16: ยาวิไชย | F16: 1-5677-00069-28-3 | K16: 13 | L16: =B16 -> 3474 | M16: =C16&D16&" "&E16 -> เด็กหญิงณัฎฐธิดา ยาวิไชย | N16: 62 | O16: 12 | P16: บ้านเหล่า | Q16: แม่ใจ | R16: 41551 | S16: 061-3347906 | T16: =O16&P16 -> 12บ้านเหล่า | V16: =C16&D16 -> เด็กหญิงณัฎฐธิดา | W16: =E16 -> ยาวิไชย
A17: 14 | B17: 3487 | C17: เด็กหญิง | D17: นวรัตน์ | E17: ปงเทพ | F17: 1-1042-00927-65-6 | K17: 14 | L17: =B17 -> 3487 | M17: =C17&D17&" "&E17 -> เด็กหญิงนวรัตน์ ปงเทพ | N17: 139 | O17: 14 | P17: บ้านเหล่า | Q17: แม่ใจ | R17: 41722 | S17: 083-8613109 | T17: =O17&P17 -> 14บ้านเหล่า | V17: =C17&D17 -> เด็กหญิงนวรัตน์ | W17: =E17 -> ปงเทพ
A18: 15 | B18: 3486 | C18: เด็กหญิง | D18: ปรียภัทร | E18: จันตาเรียน | F18: 1-5677-00071-84-9 | K18: 15 | L18: =B18 -> 3486 | M18: =C18&D18&" "&E18 -> เด็กหญิงปรียภัทร จันตาเรียน | N18: 143 | O18: 4 | P18: บ้านเหล่า | Q18: แม่ใจ | R18: 41603 | S18: 098-3351644 | T18: =O18&P18 -> 4บ้านเหล่า | V18: =C18&D18 -> เด็กหญิงปรียภัทร | W18: =E18 -> จันตาเรียน
A19: 16 | B19: 3475 | C19: เด็กหญิง | D19: พัทธนันท์ | E19: ปงเทพ | F19: 1-5677-00070-40-1 | K19: 16 | L19: =B19 -> 3475 | M19: =C19&D19&" "&E19 -> เด็กหญิงพัทธนันท์ ปงเทพ | N19: 17 | O19: 12 | P19: บ้านเหล่า | Q19: แม่ใจ | R19: 41572 | S19: 064-5054237 | T19: =O19&P19 -> 12บ้านเหล่า | V19: =C19&D19 -> เด็กหญิงพัทธนันท์ | W19: =E19 -> ปงเทพ
A20: 17 | B20: 3537 | C20: เด็กหญิง | D20: ศุจินันท์ | E20: แสนไวยากรณ์ | F20: 1-5087-00152-84-0 | K20: 17 | L20: =B20 -> 3537 | M20: =C20&D20&" "&E20 -> เด็กหญิงศุจินันท์ แสนไวยากรณ์ | N20: 9999 | O20: 5 | P20: เวียง | Q20: เมืองพะเยา | R20: 41614 | S20: 098-846-7945 | T20: =O20&P20 -> 5เวียง | V20: =C20&D20 -> เด็กหญิงศุจินันท์ | W20: =E20 -> แสนไวยากรณ์
D26: จำนวนนักเรียนแยกตามเพศ | V26: นักเรียนในเขตพื้นที่บริการโรงเรียน | W26: ต.บ้านเหล่า | AC26: นอกเขต ต.บ้านเหล่า | AD26: รวม
D27: ชาย | E27: หญิง | F27: รวม | W27: 1บ้านเหล่า | X27: 2บ้านเหล่า | Y27: 3บ้านเหล่า | Z27: 4บ้านเหล่า | AA27: 12บ้านเหล่า | AB27: 14บ้านเหล่า
D28: =COUNTIF(C4:C28,"เด็กชาย") -> 8 | E28: =COUNTIF(C4:C28,"เด็กหญิง") -> 9 | F28: =SUBTOTAL(9,D28:E28) -> 17 | W28: =COUNTIF($T4:$T28,W27) -> 0 | X28: =COUNTIF($T4:$T28,X27) -> 1 | Y28: =COUNTIF($T4:$T28,Y27) -> 3 | Z28: =COUNTIF($T4:$T28,Z27) -> 4 | AA28: =COUNTIF($T4:$T28,AA27) -> 4 | AB28: =COUNTIF($T4:$T28,AB27) -> 2 | AC28: =COUNTA($T4:$T28)-SUM(W28:AB28) -> 3 | AD28: =SUBTOTAL(9,W28:AC28) -> 17

Sheet ป.5
A1: รายชื่อนักเรียนโรงเรียนบ้านเหล่า ปีการศึกษา 2566 | K1: =A1 -> รายชื่อนักเรียนโรงเรียนบ้านเหล่า ปีการศึกษา 2566
A2: ชั้นประถมศึกษาปีที่ 5 | M2: =A2 -> ชั้นประถมศึกษาปีที่ 5
A3: ที่ | B3: เลขประจำตัวนักเรียน | D3: ชื่อ - | E3: นามสกุล | F3: เลขประจำตัวประชาชน | G3: หมายเหตุ | K3: ที่ | L3: เลขประจำตัวนักเรียน | M3: ชื่อ - นามสกุล | N3: เลขที่บ้าน | O3: หมู่ | P3: ตำบล | Q3: อำเภอ | R3: วันเกิด | S3: เบอร์โทรศัพท์ผู้ปกครอง | V3: ชื่อ | W3: นามสกุล
A4: 1 | B4: 3512 | C4: เด็กชาย | D4: กฤษดา | E4: สินเปียง | F4: 1-5677-00051-12-1 | K4: 1 | L4: =B4 -> 3512 | M4: =C4&D4&" "&E4 -> เด็กชายกฤษดา สินเปียง | N4: 1 | O4: 6 | P4: แม่ใจ | Q4: แม่ใจ | R4: 41177 | S4: 083-940-8632 | T4: =O4&P4 -> 6แม่ใจ | V4: =C4&D4 -> เด็กชายกฤษดา | W4: =E4 -> สินเปียง
A5: 2 | B5: 3513 | C5: เด็กชาย | D5: ปิยวัฒน์ | E5: คำอ้าย | F5: 1-5799-01580-88-2 | K5: 2 | L5: =B5 -> 3513 | M5: =C5&D5&" "&E5 -> เด็กชายปิยวัฒน์ คำอ้าย | N5: 63 | O5: 2 | P5: บ้านเหล่า | Q5: แม่ใจ | R5: 41332 | S5: 084-8761054 | T5: =O5&P5 -> 2บ้านเหล่า | V5: =C5&D5 -> เด็กชายปิยวัฒน์ | W5: =E5 -> คำอ้าย
A6: 3 | B6: 3466 | C6: เด็กชาย | D6: ฟ้าประทาน | E6: ใจแล | F6: 1-5677-00053-16-6 | K6: 3 | L6: =B6 -> 3466 | M6: =C6&D6&" "&E6 -> เด็กชายฟ้าประทาน ใจแล | N6: 73 | O6: 12 | P6: บ้านเหล่า | Q6: แม่ใจ | R6: 41215 | S6: 082-390-5488 | T6: =O6&P6 -> 12บ้านเหล่า | V6: =C6&D6 -> เด็กชายฟ้าประทาน | W6: =E6 -> ใจแล
A7: 4 | B7: 3457 | C7: เด็กหญิง | D7: จิดาภา | E7: อินพุ่ม | F7: 1-2090-00707-33-8 | K7: 4 | L7: =B7 -> 3457 | M7: =C7&D7&" "&E7 -> เด็กหญิงจิดาภา อินพุ่ม | N7: 68 | O7: 4 | P7: บ้านเหล่า | Q7: แม่ใจ | R7: 41280 | S7: 084-169-4950 | T7: =O7&P7 -> 4บ้านเหล่า | V7: =C7&D7 -> เด็กหญิงจิดาภา | W7: =E7 -> อินพุ่ม
A8: 5 | B8: 3458 | C8: เด็กหญิง | D8: ชนัณชิดา | E8: ชุติธนบูรณ์ | F8: 1-5677-00057-51-0 | K8: 5 | L8: =B8 -> 3458 | M8: =C8&D8&" "&E8 -> เด็กหญิงชนัณชิดา ชุติธนบูรณ์ | N8: 39 | O8: 12 | P8: บ้านเหล่า | Q8: แม่ใจ | R8: 41306 | S8: 082-9040227 | T8: =O8&P8 -> 12บ้านเหล่า | V8: =C8&D8 -> เด็กหญิงชนัณชิดา | W8: =E8 -> ชุติธนบูรณ์
A9: 6 | B9: 3459 | C9: เด็กหญิง | D9: ชรินทร์ทิพย์ | E9: มณีวรรณชัย | F9: 1-5677-00055-19-3 | K9: 6 | L9: =B9 -> 3459 | M9: =C9&D9&" "&E9 -> เด็กหญิงชรินทร์ทิพย์ มณีวรรณชัย | N9: 38 | O9: 3 | P9: บ้านเหล่า | Q9: แม่ใจ | R9: 41254 | S9: 094-751-1803 | T9: =O9&P9 -> 3บ้านเหล่า | V9: =C9&D9 -> เด็กหญิงชรินทร์ทิพย์ | W9: =E9 -> มณีวรรณชัย
A10: 7 | B10: 3568 | C10: เด็กหญิง | D10: นรีกานต์ | E10: สงวนทรัพย์ | F10: 1-1002-02117-61-5 | K10: 7 | L10: =B10 -> 3568 | M10: =C10&D10&" "&E10 -> เด็กหญิงนรีกานต์ สงวนทรัพย์ | N10: 72 | O10: 8 | P10: แม่ใจ | Q10: แม่ใจ | R10: 41230 | S10: 096-561-8868 | T10: =O10&P10 -> 8แม่ใจ | V10: =C10&D10 -> เด็กหญิงนรีกานต์ | W10: =E10 -> สงวนทรัพย์
A11: 8 | B11: 3462 | C11: เด็กหญิง | D11: นันทรัตน์ | E11: ชุมภูหมุด | F11: 1-5677-00061-59-2 | K11: 8 | L11: =B11 -> 3462 | M11: =C11&D11&" "&E11 -> เด็กหญิงนันทรัตน์ ชุมภูหมุด | N11: 10 | O11: 3 | P11: บ้านเหล่า | Q11: แม่ใจ | R11: 41393 | S11: 084-613-7874 | T11: =O11&P11 -> 3บ้านเหล่า | V11: =C11&D11 -> เด็กหญิงนันทรัตน์ | W11: =E11 -> ชุมภูหมุด
A12: 9 | B12: 3463 | C12: เด็กหญิง | D12: นิภาพร | E12: ทองหล่อ | F12: 1-5677-00053-66-2 | K12: 9 | L12: =B12 -> 3463 | M12: =C12&D12&" "&E12 -> เด็กหญิงนิภาพร ทองหล่อ | N12: 6 | O12: 2 | P12: บ้านเหล่า | Q12: แม่ใจ | R12: 41224 | S12: 081-022-4796 | T12: =O12&P12 -> 2บ้านเหล่า | V12: =C12&D12 -> เด็กหญิงนิภาพร | W12: =E12 -> ทองหล่อ
A13: 10 | B13: 3464 | C13: เด็กหญิง | D13: ปณิตรา | E13: ชุมภู | F13: 1-5677-00061-38-0 | K13: 10 | L13: =B13 -> 3464 | M13: =C13&D13&" "&E13 -> เด็กหญิงปณิตรา ชุมภู | N13: 133 | O13: 4 | P13: บ้านเหล่า | Q13: แม่ใจ | R13: 41388 | T13: =O13&P13 -> 4บ้านเหล่า | V13: =C13&D13 -> เด็กหญิงปณิตรา | W13: =E13 -> ชุมภู
A14: 11 | B14: 3465 | C14: เด็กหญิง | D14: พิชชา | E14: ป๊อกบุญเรือง | F14: 1-1035-00113-40-8 | K14: 11 | L14: =B14 -> 3465 | M14: =C14&D14&" "&E14 -> เด็กหญิงพิชชา ป๊อกบุญเรือง | N14: 71 | O14: 2 | P14: บ้านเหล่า | Q14: แม่ใจ | R14: 41153 | S14: 087-830-3877 | T14: =O14&P14 -> 2บ้านเหล่า | V14: =C14&D14 -> เด็กหญิงพิชชา | W14: =E14 -> ป๊อกบุญเรือง
D26: จำนวนนักเรียนแยกตามเพศ | V26: นักเรียนในเขตพื้นที่บริการโรงเรียน | W26: ต.บ้านเหล่า | AC26: นอกเขต ต.บ้านเหล่า | AD26: รวม
D27: ชาย | E27: หญิง | F27: รวม | W27: 1บ้านเหล่า | X27: 2บ้านเหล่า | Y27: 3บ้านเหล่า | Z27: 4บ้านเหล่า | AA27: 12บ้านเหล่า | AB27: 14บ้านเหล่า
D28: =COUNTIF(C4:C28,"เด็กชาย") -> 3 | E28: =COUNTIF(C4:C28,"เด็กหญิง") -> 8 | F28: =SUBTOTAL(9,D28:E28) -> 11 | W28: =COUNTIF($T4:$T28,W27) -> 0 | X28: =COUNTIF($T4:$T28,X27) -> 3 | Y28: =COUNTIF($T4:$T28,Y27) -> 2 | Z28: =COUNTIF($T4:$T28,Z27) -> 2 | AA28: =COUNTIF($T4:$T28,AA27) -> 2 | AB28: =COUNTIF($T4:$T28,AB27) -> 0 | AC28: =COUNTA($T4:$T28)-SUM(W28:AB28) -> 2 | AD28: =SUBTOTAL(9,W28:AC28) -> 11

Sheet ป.6
A1: รายชื่อนักเรียนโรงเรียนบ้านเหล่า ปีการศึกษา 2566 | K1: =A1 -> รายชื่อนักเรียนโรงเรียนบ้านเหล่า ปีการศึกษา 2566
A2: ชั้นประถมศึกษาปีที่ 6 | M2: =A2 -> ชั้นประถมศึกษาปีที่ 6
A3: ที่ | B3: เลขประจำตัวนักเรียน | D3: ชื่อ - | E3: นามสกุล | F3: เลขประจำตัวประชาชน | G3: หมายเหตุ | K3: ที่ | L3: เลขประจำตัวนักเรียน | M3: ชื่อ - นามสกุล | N3: เลขที่บ้าน | O3: หมู่ | P3: ตำบล | Q3: อำเภอ | R3: วันเกิด | S3: เบอร์โทรศัพท์ผู้ปกครอง | V3: ชื่อ | W3: นามสกุล
A4: 1 | B4: 3440 | C4: เด็กชาย | D4: กรวิชญ์ | E4: โยธา | F4: 1-5677-00032-63-1 | K4: 1 | L4: =B4 -> 3440 | M4: =C4&D4&" "&E4 -> เด็กชายกรวิชญ์ โยธา | N4: 25 | O4: 3 | P4: บ้านเหล่า | Q4: แม่ใจ | R4: 40794 | S4: 082-0409420 | T4: =O4&P4 -> 3บ้านเหล่า | V4: =C4&D4 -> เด็กชายกรวิชญ์ | W4: =E4 -> โยธา
A5: 2 | B5: 3441 | C5: เด็กชาย | D5: ณัฐพล | E5: ป๊อกบุญเรือง | F5: 1-1021-70161-21-7 | K5: 2 | L5: =B5 -> 3441 | M5: =C5&D5&" "&E5 -> เด็กชายณัฐพล ป๊อกบุญเรือง | N5: 71 | O5: 2 | P5: บ้านเหล่า | Q5: แม่ใจ | R5: 40864 | S5: 087-930-3877 | T5: =O5&P5 -> 2บ้านเหล่า | V5: =C5&D5 -> เด็กชายณัฐพล | W5: =E5 -> ป๊อกบุญเรือง
A6: 3 | B6: 3442 | C6: เด็กชาย | D6: ณัฐภูมิ | E6: ไชยคำ | F6: 1-2499-01032-53-5 | K6: 3 | L6: =B6 -> 3442 | M6: =C6&D6&" "&E6 -> เด็กชายณัฐภูมิ ไชยคำ | N6: 22 | O6: 2 | P6: บ้านเหล่า | Q6: แม่ใจ | R6: 40967 | S6: 082-7668490 | T6: =O6&P6 -> 2บ้านเหล่า | V6: =C6&D6 -> เด็กชายณัฐภูมิ | W6: =E6 -> ไชยคำ
A7: 4 | B7: 3567 | C7: เด็กชาย | D7: เดโชชัย | E7: สงวนทรัพย์ | F7: 1-1002-02074-65-7 | K7: 4 | L7: =B7 -> 3567 | M7: =C7&D7&" "&E7 -> เด็กชายเดโชชัย สงวนทรัพย์ | N7: 72 | O7: 2 | P7: แม่ใจ | Q7: แม่ใจ | R7: 40722 | S7: 096-561-8868 | T7: =O7&P7 -> 2แม่ใจ | V7: =C7&D7 -> เด็กชายเดโชชัย | W7: =E7 -> สงวนทรัพย์
A8: 5 | B8: 3448 | C8: เด็กชาย | D8: เทพนรินทร์ | E8: ป๊อกบุญเรือง | F8: 1-5607-00098-11-2 | K8: 5 | L8: =B8 -> 3448 | M8: =C8&D8&" "&E8 -> เด็กชายเทพนรินทร์ ป๊อกบุญเรือง | N8: 79 | O8: 2 | P8: บ้านเหล่า | Q8: แม่ใจ | R8: 40801 | S8: 081-6029202 | T8: =O8&P8 -> 2บ้านเหล่า | V8: =C8&D8 -> เด็กชายเทพนรินทร์ | W8: =E8 -> ป๊อกบุญเรือง
A9: 6 | B9: 3443 | C9: เด็กชาย | D9: ธีรภัทร | E9: หลวงยศ | F9: 1-5677-00036-77-6 | K9: 6 | L9: =B9 -> 3443 | M9: =C9&D9&" "&E9 -> เด็กชายธีรภัทร หลวงยศ | N9: 79 | O9: 12 | P9: บ้านเหล่า | Q9: แม่ใจ | R9: 40886 | S9: 061-3347906 | T9: =O9&P9 -> 12บ้านเหล่า | V9: =C9&D9 -> เด็กชายธีรภัทร | W9: =E9 -> หลวงยศ
A10: 7 | B10: 3446 | C10: เด็กชาย | D10: พงศธร | E10: แก้วแสง | F10: 1-1031-01185-03-1 | K10: 7 | L10: =B10 -> 3446 | M10: =C10&D10&" "&E10 -> เด็กชายพงศธร แก้วแสง | N10: 3713/20 | O10: 0 | P10: บางโคล่ | Q10: บางคลองแหลม กทม. | R10: 40861 | S10: 080-052-3825 | T10: =O10&P10 -> 0บางโคล่ | V10: =C10&D10 -> เด็กชายพงศธร | W10: =E10 -> แก้วแสง
A11: 8 | B11: 3444 | C11: เด็กชาย | D11: พงษ์พัฒน์ | E11: ช่างล้อ | F11: 1-5607-00098-06-6 | K11: 8 | L11: =B11 -> 3444 | M11: =C11&D11&" "&E11 -> เด็กชายพงษ์พัฒน์ ช่างล้อ | N11: 94 | O11: 14 | P11: บ้านเหล่า | Q11: แม่ใจ | R11: 40770 | T11: =O11&P11 -> 14บ้านเหล่า | V11: =C11&D11 -> เด็กชายพงษ์พัฒน์ | W11: =E11 -> ช่างล้อ
A12: 9 | B12: 3445 | C12: เด็กชาย | D12: พงษ์ศักดิ์ | E12: ช่างล้อ | F12: 1-5607-00098-05-8 | K12: 9 | L12: =B12 -> 3445 | M12: =C12&D12&" "&E12 -> เด็กชายพงษ์ศักดิ์ ช่างล้อ | N12: 94 | O12: 14 | P12: บ้านเหล่า | Q12: แม่ใจ | R12: 40770 | T12: =O12&P12 -> 14บ้านเหล่า | V12: =C12&D12 -> เด็กชายพงษ์ศักดิ์ | W12: =E12 -> ช่างล้อ
A13: 10 | B13: 3447 | C13: เด็กชาย | D13: ภูมินันท์ | E13: ตะวิจัง | F13: 1-2009-01628-06-5 | K13: 10 | L13: =B13 -> 3447 | M13: =C13&D13&" "&E13 -> เด็กชายภูมินันท์ ตะวิจัง | N13: 62 | O13: 12 | P13: บ้านเหล่า | Q13: แม่ใจ | R13: 40779 | T13: =O13&P13 -> 12บ้านเหล่า | V13: =C13&D13 -> เด็กชายภูมินันท์ | W13: =E13 -> ตะวิจัง
A14: 11 | B14: 3449 | C14: เด็กชาย | D14: ไมตรี | E14: บัวเชย | F14: 1-1199-02610-11-8 | K14: 11 | L14: =B14 -> 3449 | M14: =C14&D14&" "&E14 -> เด็กชายไมตรี บัวเชย | N14: 111 | O14: 8 | P14: บ้านเหล่า | Q14: แม่ใจ | R14: 40642 | S14: 097-962-1106 | T14: =O14&P14 -> 8บ้านเหล่า | V14: =C14&D14 -> เด็กชายไมตรี | W14: =E14 -> บัวเชย
A15: 12 | B15: 3482 | C15: เด็กชาย | D15: วีรากร | E15: ศรีแก้ว | F15: 1-5607-00098-23-6 | K15: 12 | L15: =B15 -> 3482 | M15: =C15&D15&" "&E15 -> เด็กชายวีรากร ศรีแก้ว | N15: 32/1 | O15: 12 | P15: บ้านเหล่า | Q15: แม่ใจ | R15: 40888 | T15: =O15&P15 -> 12บ้านเหล่า | V15: =C15&D15 -> เด็กชายวีรากร | W15: =E15 -> ศรีแก้ว
A16: 13 | B16: 3451 | C16: เด็กหญิง | D16: ชนนิกานต์ | E16: จุมปาคำ | F16: 1-5607-00098-35-0 | K16: 13 | L16: =B16 -> 3451 | M16: =C16&D16&" "&E16 -> เด็กหญิงชนนิกานต์ จุมปาคำ | N16: 100 | O16: 2 | P16: บ้านเหล่า | Q16: แม่ใจ | R16: 40984 | S16: 094-234-9182 | T16: =O16&P16 -> 2บ้านเหล่า | V16: =C16&D16 -> เด็กหญิงชนนิกานต์ | W16: =E16 -> จุมปาคำ
A17: 14 | B17: 3516 | C17: เด็กหญิง | D17: พิชชาพร | E17: สุจิธรรม | F17: 1-5607-00098-13-9 | K17: 14 | L17: =B17 -> 3516 | M17: =C17&D17&" "&E17 -> เด็กหญิงพิชชาพร สุจิธรรม | N17: 117 | O17: 4 | P17: บ้านเหล่า | Q17: แม่ใจ | R17: 40822 | S17: 093-185-6030 | T17: =O17&P17 -> 4บ้านเหล่า | V17: =C17&D17 -> เด็กหญิงพิชชาพร | W17: =E17 -> สุจิธรรม
A18: 15 | B18: 3453 | C18: เด็กหญิง | D18: ภัทรพรรณ | E18: ใจจม | F18: 1-5677-00034-15-3 | K18: 15 | L18: =B18 -> 3453 | M18: =C18&D18&" "&E18 -> เด็กหญิงภัทรพรรณ ใจจม | N18: 63 | O18: 4 | P18: บ้านเหล่า | Q18: แม่ใจ | R18: 40835 | S18: 082-058-8744 | T18: =O18&P18 -> 4บ้านเหล่า | V18: =C18&D18 -> เด็กหญิงภัทรพรรณ | W18: =E18 -> ใจจม
A19: 16 | B19: 3454 | C19: เด็กหญิง | D19: วรัญญา | E19: สันภูวัน | F19: 1-5677-00030-08-5 | K19: 16 | L19: =B19 -> 3454 | M19: =C19&D19&" "&E19 -> เด็กหญิงวรัญญา สันภูวัน | N19: 11 | O19: 3 | P19: บ้านเหล่า | Q19: แม่ใจ | R19: 40750 | S19: 093-610-2183 | T19: =O19&P19 -> 3บ้านเหล่า | V19: =C19&D19 -> เด็กหญิงวรัญญา | W19: =E19 -> สันภูวัน
A20: 17 | B20: 3569 | C20: เด็กหญิง | D20: วิชาดา | E20: โลจันทร์ต๊ะ | F20: 1-5799-01502-38-5 | K20: 17 | L20: =B20 -> 3569 | M20: =C20&D20&" "&E20 -> เด็กหญิงวิชาดา โลจันทร์ต๊ะ | N20: 159 | O20: 3 | P20: บ้านเหล่า | Q20: แม่ใจ | R20: 40897 | T20: =O20&P20 -> 3บ้านเหล่า | V20: =C20&D20 -> เด็กหญิงวิชาดา | W20: =E20 -> โลจันทร์ต๊ะ
A21: 18 | B21: 3455 | C21: เด็กหญิง | D21: หทัยกาญจน์ | E21: ป๊อกบุญเรือง | F21: 1-5677-00036-78-4 | K21: 18 | L21: =B21 -> 3455 | M21: =C21&D21&" "&E21 -> เด็กหญิงหทัยกาญจน์ ป๊อกบุญเรือง | N21: 79 | O21: 2 | P21: บ้านเหล่า | Q21: แม่ใจ | R21: 40886 | S21: 081-602-9202 | T21: =O21&P21 -> 2บ้านเหล่า | V21: =C21&D21 -> เด็กหญิงหทัยกาญจน์ | W21: =E21 -> ป๊อกบุญเรือง
D26: จำนวนนักเรียนแยกตามเพศ | V26: นักเรียนในเขตพื้นที่บริการโรงเรียน | W26: ต.บ้านเหล่า | AC26: นอกเขต ต.บ้านเหล่า | AD26: รวม
D27: ชาย | E27: หญิง | F27: รวม | W27: 1บ้านเหล่า | X27: 2บ้านเหล่า | Y27: 3บ้านเหล่า | Z27: 4บ้านเหล่า | AA27: 12บ้านเหล่า | AB27: 14บ้านเหล่า
D28: =COUNTIF(C4:C28,"เด็กชาย") -> 12 | E28: =COUNTIF(C4:C28,"เด็กหญิง") -> 6 | F28: =SUBTOTAL(9,D28:E28) -> 18 | W28: =COUNTIF($T4:$T28,W27) -> 0 | X28: =COUNTIF($T4:$T28,X27) -> 5 | Y28: =COUNTIF($T4:$T28,Y27) -> 3 | Z28: =COUNTIF($T4:$T28,Z27) -> 2 | AA28: =COUNTIF($T4:$T28,AA27) -> 3 | AB28: =COUNTIF($T4:$T28,AB27) -> 2 | AC28: =COUNTA($T4:$T28)-SUM(W28:AB28) -> 3 | AD28: =SUBTOTAL(9,W28:AC28) -> 18

Sheet รวมแยกเพศ
B2: ข้อมูลจำนวนนักเรียนโรงเรียนบ้านเหล่า ปีการศึกษา 2566 | I2: =B2 -> ข้อมูลจำนวนนักเรียนโรงเรียนบ้านเหล่า ปีการศึกษา 2566 | R2: รายละเอียดค่าอุปกรณ์การเรียนของนักเรียน โรงเรียนบ้านเหล่า | Y2: รายละเอีดยค่าเครื่องแบบของนักเรียน โรงเรียนบ้านเหล่า
B3: ณ วันที่ 8 พฤษภาคม 2566 | I3: =B3 -> ณ วันที่ 8 พฤษภาคม 2566 | R3: ภาคเรียนที่ 1 ปีการศึกษา 2566 | Y3: ปีการศึกษา 2566
A5: ชั้น | B5: จำนวนนักเรียน | E5: จำนวนห้องเรียน | F5: นักเรียนในเขตพื้นที่บริการโรงเรียน | G5: ต.บ้านเหล่า | M5: นอกเขต ต.บ้านเหล่า | N5: รวม | P5: ชั้น | Q5: จำนวนนักเรียน | T5: ค่าอุปกรณ์การเรียน | U5: รวมเป็นเงิน | W5: ชั้น | X5: จำนวนนักเรียน | AA5: ค่าเครื่องแบบนักเรียน | AB5: รวมเป็นเงิน
B6: เพศชาย | C6: เพศหญิง | D6: รวม | G6: หมู่ที่ 1 | H6: หมู่ที่ 2 | I6: หมู่ที่ 3 | J6: หมู่ที่ 4 | K6: หมู่ที่ 12 | L6: หมู่ที่ 14 | Q6: ชาย | R6: หญิง | S6: รวม | T6: คนละ | X6: ชาย | Y6: หญิง | Z6: รวม | AA6: คนละ
A7: อนุบาลปีที่ 1 | B7: =อ.1!D20 -> 4 | C7: =อ.1!E20 -> 4 | D7: =อ.1!F20 -> 8 | E7: 1 | F7: อนุบาลปีที่ 1 | G7: =อ.1!W20 -> 0 | H7: =อ.1!X20 -> 0 | I7: =อ.1!Y20 -> 2 | J7: =อ.1!Z20 -> 2 | K7: =อ.1!AA20 -> 1 | L7: =อ.1!AB20 -> 0 | M7: =อ.1!AC20 -> 3 | N7: =อ.1!AD20 -> 8 | P7: อนุบาลปีที่ 1 | Q7: =B7 -> 4 | R7: =C7 -> 4 | S7: =SUM(Q7:R7) -> 8 | T7: 145 | U7: =S7*T7 -> 1160 | W7: อนุบาลปีที่ 1 | X7: =Q7 -> 4 | Y7: =R7 -> 4 | Z7: =SUM(X7:Y7) -> 8 | AA7: 325 | AB7: =Z7*AA7 -> 2600
A8: อนุบาลปีที่ 2 | B8: =อ.2!D21 -> 4 | C8: =อ.2!E21 -> 5 | D8: =อ.2!F21 -> 9 | E8: 1 | F8: อนุบาลปีที่ 2 | G8: =อ.2!W21 -> 1 | H8: =อ.2!X21 -> 2 | I8: =อ.2!Y21 -> 1 | J8: =อ.2!Z21 -> 2 | K8: =อ.2!AA21 -> 2 | L8: =อ.2!AB21 -> 1 | M8: =อ.2!AC21 -> 0 | N8: =อ.2!AD21 -> 9 | P8: อนุบาลปีที่ 2 | Q8: =B8 -> 4 | R8: =C8 -> 5 | S8: =SUM(Q8:R8) -> 9 | T8: 145 | U8: =S8*T8 -> 1305 | W8: อนุบาลปีที่ 2 | X8: =Q8 -> 4 | Y8: =R8 -> 5 | Z8: =SUM(X8:Y8) -> 9 | AA8: 325 | AB8: =Z8*AA8 -> 2925
A9: อนุบาลปีที่ 3 | B9: =อ.3!D23 -> 5 | C9: =อ.3!E23 -> 7 | D9: =อ.3!F23 -> 12 | E9: 1 | F9: อนุบาลปีที่ 3 | G9: =อ.3!W23 -> 0 | H9: =อ.3!X23 -> 2 | I9: =อ.3!Y23 -> 4 | J9: =อ.3!Z23 -> 2 | K9: =อ.3!AA23 -> 1 | L9: =อ.3!AB23 -> 2 | M9: =อ.3!AC23 -> 1 | N9: =อ.3!AD23 -> 12 | P9: อนุบาลปีที่ 3 | Q9: =B9 -> 5 | R9: =C9 -> 7 | S9: =SUM(Q9:R9) -> 12 | T9: 145 | U9: =S9*T9 -> 1740 | W9: อนุบาลปีที่ 3 | X9: =Q9 -> 5 | Y9: =R9 -> 7 | Z9: =SUM(X9:Y9) -> 12 | AA9: 325 | AB9: =Z9*AA9 -> 3900
A10: ประถมศึกษาปีที่ 1 | B10: =ป.1!D28 -> 7 | C10: =ป.1!E28 -> 5 | D10: =ป.1!F28 -> 12 | E10: 1 | F10: ประถมศึกษาปีที่ 1 | G10: =ป.1!W28 -> 0 | H10: =ป.1!X28 -> 3 | I10: =ป.1!Y28 -> 2 | J10: =ป.1!Z28 -> 2 | K10: =ป.1!AA28 -> 3 | L10: =ป.1!AB28 -> 2 | M10: =ป.1!AC28 -> 0 | N10: =ป.1!AD28 -> 12 | P10: รวมระดับปฐมวัย | Q10: =SUM(Q7:Q9) -> 13 | R10: =SUM(R7:R9) -> 16 | S10: =SUM(Q10:R10) -> 29 | U10: =SUM(U7:U9) -> 4205 | W10: รวมระดับปฐมวัย | X10: =SUM(X7:X9) -> 13 | Y10: =SUM(Y7:Y9) -> 16 | Z10: =SUM(X10:Y10) -> 29 | AB10: =SUM(AB7:AB9) -> 9425
A11: ประถมศึกษาปีที่ 2 | B11: =ป.2!D28 -> 5 | C11: =ป.2!E28 -> 4 | D11: =ป.2!F28 -> 9 | E11: 1 | F11: ประถมศึกษาปีที่ 2 | G11: =ป.2!W28 -> 0 | H11: =ป.2!X28 -> 1 | I11: =ป.2!Y28 -> 0 | J11: =ป.2!Z28 -> 5 | K11: =ป.2!AA28 -> 2 | L11: =ป.2!AB28 -> 0 | M11: =ป.2!AC28 -> 1 | N11: =ป.2!AD28 -> 9 | P11: ประถมศึกษาปีที่ 1 | Q11: =B10 -> 7 | R11: =C10 -> 5 | S11: =SUM(Q11:R11) -> 12 | T11: 220 | U11: =S11*T11 -> 2640 | W11: ประถมศึกษาปีที่ 1 | X11: =Q11 -> 7 | Y11: =R11 -> 5 | Z11: =SUM(X11:Y11) -> 12 | AA11: 400 | AB11: =Z11*AA11 -> 4800
A12: ประถมศึกษาปีที่ 3 | B12: =ป.3!D25 -> 11 | C12: =ป.3!E25 -> 7 | D12: =ป.3!F25 -> 18 | E12: 1 | F12: ประถมศึกษาปีที่ 3 | G12: =ป.3!W25 -> 1 | H12: =ป.3!X25 -> 5 | I12: =ป.3!Y25 -> 4 | J12: =ป.3!Z25 -> 5 | K12: =ป.3!AA25 -> 1 | L12: =ป.3!AB25 -> 2 | M12: =ป.3!AC25 -> 0 | N12: =ป.3!AD25 -> 18 | P12: ประถมศึกษาปีที่ 2 | Q12: =B11 -> 5 | R12: =C11 -> 4 | S12: =SUM(Q12:R12) -> 9 | T12: 220 | U12: =S12*T12 -> 1980 | W12: ประถมศึกษาปีที่ 2 | X12: =Q12 -> 5 | Y12: =R12 -> 4 | Z12: =SUM(X12:Y12) -> 9 | AA12: 400 | AB12: =Z12*AA12 -> 3600
A13: ประถมศึกษาปีที่ 4 | B13: =ป.4!D28 -> 8 | C13: =ป.4!E28 -> 9 | D13: =ป.4!F28 -> 17 | E13: 1 | F13: ประถมศึกษาปีที่ 4 | G13: =ป.4!W28 -> 0 | H13: =ป.4!X28 -> 1 | I13: =ป.4!Y28 -> 3 | J13: =ป.4!Z28 -> 4 | K13: =ป.4!AA28 -> 4 | L13: =ป.4!AB28 -> 2 | M13: =ป.4!AC28 -> 3 | N13: =ป.4!AD28 -> 17 | P13: ประถมศึกษาปีที่ 3 | Q13: =B12 -> 11 | R13: =C12 -> 7 | S13: =SUM(Q13:R13) -> 18 | T13: 220 | U13: =S13*T13 -> 3960 | W13: ประถมศึกษาปีที่ 3 | X13: =Q13 -> 11 | Y13: =R13 -> 7 | Z13: =SUM(X13:Y13) -> 18 | AA13: 400 | AB13: =Z13*AA13 -> 7200
A14: ประถมศึกษาปีที่ 5 | B14: =ป.5!D28 -> 3 | C14: =ป.5!E28 -> 8 | D14: =ป.5!F28 -> 11 | E14: 1 | F14: ประถมศึกษาปีที่ 5 | G14: =ป.5!W28 -> 0 | H14: =ป.5!X28 -> 3 | I14: =ป.5!Y28 -> 2 | J14: =ป.5!Z28 -> 2 | K14: =ป.5!AA28 -> 2 | L14: =ป.5!AB28 -> 0 | M14: =ป.5!AC28 -> 2 | N14: =ป.5!AD28 -> 11 | P14: ประถมศึกษาปีที่ 4 | Q14: =B13 -> 8 | R14: =C13 -> 9 | S14: =SUM(Q14:R14) -> 17 | T14: 220 | U14: =S14*T14 -> 3740 | W14: ประถมศึกษาปีที่ 4 | X14: =Q14 -> 8 | Y14: =R14 -> 9 | Z14: =SUM(X14:Y14) -> 17 | AA14: 400 | AB14: =Z14*AA14 -> 6800
A15: ประถมศึกษาปีที่ 6 | B15: =ป.6!D28 -> 12 | C15: =ป.6!E28 -> 6 | D15: =ป.6!F28 -> 18 | E15: 1 | F15: ประถมศึกษาปีที่ 6 | G15: =ป.6!W28 -> 0 | H15: =ป.6!X28 -> 5 | I15: =ป.6!Y28 -> 3 | J15: =ป.6!Z28 -> 2 | K15: =ป.6!AA28 -> 3 | L15: =ป.6!AB28 -> 2 | M15: =ป.6!AC28 -> 3 | N15: =ป.6!AD28 -> 18 | P15: ประถมศึกษาปีที่ 5 | Q15: =B14 -> 3 | R15: =C14 -> 8 | S15: =SUM(Q15:R15) -> 11 | T15: 220 | U15: =S15*T15 -> 2420 | W15: ประถมศึกษาปีที่ 5 | X15: =Q15 -> 3 | Y15: =R15 -> 8 | Z15: =SUM(X15:Y15) -> 11 | AA15: 400 | AB15: =Z15*AA15 -> 4400
A16: จำนวนนักเรียนระดับปฐมวัย | B16: =SUM(B7:B9) -> 13 | C16: =SUM(C7:C9) -> 16 | D16: =SUM(B16:C16) -> 29 | E16: =SUM(E7:E9) -> 3 | F16: จำนวนนักเรียนระดับปฐมวัย | G16: =SUM(G7:G9) -> 1 | H16: =SUM(H7:H9) -> 4 | I16: =SUM(I7:I9) -> 7 | J16: =SUM(J7:J9) -> 6 | K16: =SUM(K7:K9) -> 4 | L16: =SUM(L7:L9) -> 3 | M16: =SUM(M7:M9) -> 4 | N16: =SUM(N7:N9) -> 29 | P16: ประถมศึกษาปีที่ 6 | Q16: =B15 -> 12 | R16: =C15 -> 6 | S16: =SUM(Q16:R16) -> 18 | T16: 220 | U16: =S16*T16 -> 3960 | W16: ประถมศึกษาปีที่ 6 | X16: =Q16 -> 12 | Y16: =R16 -> 6 | Z16: =SUM(X16:Y16) -> 18 | AA16: 400 | AB16: =Z16*AA16 -> 7200
A17: จำนวนนักเรียนระดับประถมศึกษา | B17: =SUM(B10:B15) -> 46 | C17: =SUM(C10:C15) -> 39 | D17: =SUM(B17:C17) -> 85 | E17: =SUM(E10:E15) -> 6 | F17: จำนวนนักเรียนระดับประถมศึกษา | G17: =SUM(G10:G15) -> 1 | H17: =SUM(H10:H15) -> 18 | I17: =SUM(I10:I15) -> 14 | J17: =SUM(J10:J15) -> 20 | K17: =SUM(K10:K15) -> 15 | L17: =SUM(L10:L15) -> 8 | M17: =SUM(M10:M15) -> 9 | N17: =SUM(N10:N15) -> 85 | P17: รวมระดับประถมศึกษา | Q17: =SUM(Q11:Q16) -> 46 | R17: =SUM(R11:R16) -> 39 | S17: =SUM(Q17:R17) -> 85 | U17: =SUM(U11:U16) -> 18700 | W17: รวมระดับประถมศึกษา | X17: =SUM(X11:X16) -> 46 | Y17: =SUM(Y11:Y16) -> 39 | Z17: =SUM(X17:Y17) -> 85 | AB17: =SUM(AB11:AB16) -> 34000
A18: จำนวนนักเรียนทั้งหมด | B18: =SUM(B16:B17) -> 59 | C18: =SUM(C16:C17) -> 55 | D18: =SUM(B18:C18) -> 114 | E18: =SUM(E16:E17) -> 9 | F18: จำนวนนักเรียนทั้งหมด | G18: =SUM(G16:G17) -> 2 | H18: =SUM(H16:H17) -> 22 | I18: =SUM(I16:I17) -> 21 | J18: =SUM(J16:J17) -> 26 | K18: =SUM(K16:K17) -> 19 | L18: =SUM(L16:L17) -> 11 | M18: =SUM(M16:M17) -> 13 | N18: =SUM(N16:N17) -> 114 | P18: รวมทั้งหมด | Q18: =Q10+Q17 -> 59 | R18: =R10+R17 -> 55 | S18: =S10+S17 -> 114 | U18: =U10+U17 -> 22905 | W18: รวมทั้งหมด | X18: =X10+X17 -> 59 | Y18: =Y10+Y17 -> 55 | Z18: =Z10+Z17 -> 114 | AB18: =AB10+AB17 -> 43425
P20: เบิก | T20: รับคนละ | U20: รวมเป็นเงิน | W20: เบิก | AA20: รับคนละ | AB20: รวมเป็นเงิน
P21: ค่าอุปกรณ์การเรียน | Q21: อนุบาล | R21: =S10 -> 29 | T21: 145 | U21: =R21*T21 -> 4205 | W21: ค่าเครื่องแบบนักเรียน | X21: อนุบาล | Y21: =Z10 -> 29 | AA21: 325 | AB21: =Y21*AA21 -> 9425
P22: ค่าอุปกรณ์การเรียน | Q22: ประถม | R22: =S17 -> 85 | T22: 220 | U22: =R22*T22 -> 18700 | W22: ค่าเครื่องแบบนักเรียน | X22: ประถม | Y22: =Z17 -> 85 | AA22: 400 | AB22: =Y22*AA22 -> 34000
P24: ค่าอุปกรณ์การเรียน | Q24: ทั้งโรงเรียน | R24: =R21+R22 -> 114 | T24: =T21+T22 -> 365 | U24: =U21+U22 -> 22905 | W24: ค่าเครื่องแบบนักเรียน | X24: ทั้งโรงเรียน | Y24: =Y21+Y22 -> 114 | AA24: =AA21+AA22 -> 725 | AB24: =AB21+AB22 -> 43425
