Workbook

Sheet อ.1
A1: รายชื่อนักเรียนโรงเรียนบ้านเหล่า ปีการศึกษา 2568
A2: ชั้นอนุบาล 1
A3: ที่ | B3: เลขประจำตัวนักเรียน | D3: ชื่อ - | E3: นามสกุล | F3: หมายเหตุ
A4: 1 | B4: 3604 | C4: เด็กชาย | D4: คุณากร | E4: สัญญเขื่อน
A5: 2 | B5: 3605 | C5: เด็กชาย | D5: ฐณปกร | E5: อุตตะมา
A6: 3 | B6: 3606 | C6: เด็กชาย | D6: ณฐภัทร | E6: สันวันดี
A7: 4 | B7: 3607 | C7: เด็กชาย | D7: ณัฐชัย | E7: แก้วสืบ
A8: 5 | B8: 3608 | C8: เด็กชาย | D8: ตันติกรณ์ | E8: สารวัน
A9: 6 | B9: 3609 | C9: เด็กชาย | D9: ธนทัต | E9: โยธา
A10: 7 | B10: 3610 | C10: เด็กชาย | D10: ธนธรณ์ | E10: ปิกจุมปู
A11: 8 | B11: 3611 | C11: เด็กชาย | D11: ปกรณ์ | E11: เรือนเฟย
A12: 9 | B12: 3612 | C12: เด็กชาย | D12: วัชรากร | E12: ยอดมิ่ง
A13: 10 | B13: 3613 | C13: เด็กหญิง | D13: ชนัญธิดา | E13: หลวงฟอง
A14: 11 | B14: 3614 | C14: เด็กหญิง | D14: นพิษฐา | E14: ฟูผล
A15: 12 | B15: 3615 | C15: เด็กหญิง | D15: วริษฐา | E15: คำฟู
D27: จำนวนนักเรียนแยกตามเพศ
D28: ชาย | E28: หญิง | F28: รวม
D29: =COUNTIF(C4:C29,"เด็กชาย") -> 9 | E29: =COUNTIF(C4:C29,"เด็กหญิง") -> 3 | F29: =SUBTOTAL(9,D29:E29) -> 12

Sheet อ.2
A1: รายชื่อนักเรียนโรงเรียนบ้านเหล่า ปีการศึกษา 2568
A2: ชั้นอนุบาล 2
A3: ที่ | B3: เลขประจำตัวนักเรียน | D3: ชื่อ - | E3: นามสกุล | F3: หมายเหตุ
A4: 1 | B4: 3602 | C4: เด็กชาย | D4: ภูฤทธิ์ | E4: ปริงหาดยาย
A5: 2 | B5: 3603 | C5: เด็กชาย | D5: ภูวรินทร์ | E5: ไชยบาล
A6: 3 | B6: 3595 | C6: เด็กชาย | D6: ณัฐชวนนท์ | E6: ยาวิไชย
D13: จำนวนนักเรียนแยกตามเพศ
D14: ชาย | E14: หญิง | F14: รวม
D15: =COUNTIF(C4:C15,"เด็กชาย") -> 3 | E15: =COUNTIF(C6:C15,"เด็กหญิง") -> 0 | F15: =SUBTOTAL(9,D15:E15) -> 3

Sheet อ.3
A1: รายชื่อนักเรียนโรงเรียนบ้านเหล่า ปีการศึกษา 2568
A2: ชั้นอนุบาล 3
A3: ที่ | B3: เลขประจำตัวนักเรียน | D3: ชื่อ - | E3: นามสกุล | F3: หมายเหตุ
A4: 1 | B4: 3579 | C4: เด็กชาย | D4: นรภัทร | E4: คำใบศรี
A5: 2 | B5: 3597 | C5: เด็กชาย | D5: ธนศักดิ์ | E5: หล้าเป็ง
A6: 3 | B6: 3598 | C6: เด็กชาย | D6: ธีรดนย์ | E6: ไชยบาล
A7: 4 | B7: 3580 | C7: เด็กชาย | D7: พิสิษฐ์ | E7: เล่ห์รักษ์
A8: 5 | B8: 3600 | C8: เด็กชาย | D8: นราวิชญ์ | E8: ทองแก้ว
A9: 6 | B9: 3581 | C9: เด็กชาย | D9: วรุณวาที | E9: ปัญสุวรรณ
A10: 7 | B10: 3582 | C10: เด็กชาย | D10: สวัสดิภาพ | E10: หลอดทอง
A11: 8 | B11: 3601 | C11: เด็กหญิง | D11: ณฐอร | E11: สันวันดี
A12: 9 | B12: 3583 | C12: เด็กหญิง | D12: ณัชชา | E12: ไชยคำ
A13: 10 | B13: 3584 | C13: เด็กหญิง | D13: พัทธนันท์ | E13: ใจเพียร
A14: 11 | B14: 3585 | C14: เด็กหญิง | D14: วริศรา | E14: โยธา
A15: 12 | B15: 3586 | C15: เด็กหญิง | D15: อัญญดา | E15: คำเมืองใจ
D22: จำนวนนักเรียนแยกตามเพศ
D23: ชาย | E23: หญิง | F23: รวม
D24: =COUNTIF(C4:C24,"เด็กชาย") -> 7 | E24: =COUNTIF(C4:C24,"เด็กหญิง") -> 5 | F24: =SUBTOTAL(9,D24:E24) -> 12

Sheet ป.1
A1: รายชื่อนักเรียนโรงเรียนบ้านเหล่า ปีการศึกษา 2568
A2: ชั้นประถมศึกษาปีที่ 1
A3: ที่ | B3: เลขประจำตัวนักเรียน | D3: ชื่อ - | E3: นามสกุล | F3: หมายเหตุ
A4: 1 | B4: 3560 | C4: เด็กชาย | D4: ณัฐภูมินทร์ | E4: ยาวิไชย
A5: 2 | B5: 3575 | C5: เด็กชาย | D5: ทักษ์ดนัย | E5: สัญญเขื่อน
A6: 3 | B6: 3561 | C6: เด็กชาย | D6: ธนดล | E6: ไชยคำ
A7: 4 | B7: 3591 | C7: เด็กชาย | D7: พิสิฐชัย | E7: อินจุมปู
A8: 5 | B8: 3562 | C8: เด็กชาย | D8: ภูมิพัฒน์ | E8: แซ่จ๋าว
A9: 6 | B9: 3596 | C9: เด็กชาย | D9: หาญณรงค์ | E9: จื่น
A10: 7 | B10: 3577 | C10: เด็กหญิง | D10: กัญญพัชร | E10: วิลัยบุญ
A11: 8 | B11: 3599 | C11: เด็กหญิง | D11: ณัฐกมล | E11: ณคร
A12: 9 | B12: 3563 | C12: เด็กหญิง | D12: กัลยทรรศน์ | E12: ทูลธรรม
A13: 10 | B13: 3592 | C13: เด็กหญิง | D13: กัลยารัตน์ | E13: น้อยตุ่น
A14: 11 | B14: 3593 | C14: เด็กหญิง | D14: จิรวดี | E14: เรือนเฟย
A15: 12 | B15: 3564 | C15: เด็กหญิง | D15: อภิญญา | E15: ประมงคล
A16: 13 | B16: 3578 | C16: เด็กหญิง | D16: อริยา | E16: เผ่าปินตา
A17: 14 | B17: 3616 | C17: เด็กหญิง | D17: ณภาพร | E17: หมื่นแก้ว
D24: จำนวนนักเรียนแยกตามเพศ
D25: ชาย | E25: หญิง | F25: รวม
D26: =COUNTIF(C4:C26,"เด็กชาย") -> 6 | E26: =COUNTIF(C4:C26,"เด็กหญิง") -> 8 | F26: =SUBTOTAL(9,D26:E26) -> 14

Sheet ป.2
A1: รายชื่อนักเรียนโรงเรียนบ้านเหล่า ปีการศึกษา 2568
A2: ชั้นประถมศึกษาปีที่ 2
A3: ที่ | B3: เลขประจำตัวนักเรียน | D3: ชื่อ - | E3: นามสกุล | F3: หมายเหตุ
A4: 1 | B4: 3558 | C4: เด็กชาย | D4: นาวิน | E4: อภิธรรม
A5: 2 | B5: 3589 | C5: เด็กชาย | D5: ธีรภัทร | E5: ภักดีวุธ
A6: 3 | B6: 3571 | C6: เด็กชาย | D6: พงศภัค | E6: ไชยวงค์
A7: 4 | B7: 3544 | C7: เด็กชาย | D7: สุรพัศ | E7: อินต๊ะปัญโญ
A8: 5 | B8: 3572 | C8: เด็กชาย | D8: อาทิวราห์ | E8: สิริวงศ์ใจ
A9: 6 | B9: 3545 | C9: เด็กหญิง | D9: เกศรินทร์ | E9: ใจลังก๋า
A10: 7 | B10: 3573 | C10: เด็กหญิง | D10: ญาณัจฉรา | E10: จุมปาคำ
A11: 8 | B11: 3547 | C11: เด็กหญิง | D11: ธัญชนก | E11: เมืองมาคำ
A12: 9 | B12: 3590 | C12: เด็กหญิง | D12: ปรีชาพร | E12: บุญคำ
A13: 10 | B13: 3548 | C13: เด็กหญิง | D13: ปวีณ์ธิดา | E13: ชุมภู
A14: 11 | B14: 3549 | C14: เด็กหญิง | D14: พัชรพร | E14: สีไชย
D20: จำนวนนักเรียนแยกตามเพศ
D21: ชาย | E21: หญิง | F21: รวม
D22: =COUNTIF(C4:C22,"เด็กชาย") -> 5 | E22: =COUNTIF(C4:C22,"เด็กหญิง") -> 6 | F22: =SUBTOTAL(9,D22:E22) -> 11

Sheet ป.3
A1: รายชื่อนักเรียนโรงเรียนบ้านเหล่า ปีการศึกษา 2568
A2: ชั้นประถมศึกษาปีที่ 3
A3: ที่ | B3: เลขประจำตัวนักเรียน | D3: ชื่อ - | E3: นามสกุล | F3: หมายเหตุ
A4: 1 | B4: 3527 | C4: เด็กชาย | D4: จักรภัทร | E4: แก้วมงคล
A5: 2 | B5: 3528 | C5: เด็กชาย | D5: พิชชานันท์ | E5: กันจะนะ
A6: 3 | B6: 3529 | C6: เด็กชาย | D6: พิชรัชย์ | E6: สินเปียง
A7: 4 | B7: 3542 | C7: เด็กชาย | D7: ภาคิน | E7: แซ่จ๋าว
A8: 5 | B8: 3569 | C8: เด็กชาย | D8: รชต | E8: ชมภูเมืองชื่น
A9: 6 | B9: 3530 | C9: เด็กชาย | D9: สิทธินนท์ | E9: ใจลังก๋า
A10: 7 | B10: 3531 | C10: เด็กหญิง | D10: ชลรดา | E10: บัวเขียว
A11: 8 | B11: 3532 | C11: เด็กหญิง | D11: นภาวรรณ | E11: ทองหล่อ
A12: 9 | B12: 3533 | C12: เด็กหญิง | D12: พิชชาภา | E12: สายเครือทิ
A13: 10 | B13: 3543 | C13: เด็กหญิง | D13: สิลิล | E13: ไชยวงค์
A14: 11 | B14: 3534 | C14: เด็กหญิง | D14: อารยา | E14: หล้าเป็ง
D20: จำนวนนักเรียนแยกตามเพศ
D21: ชาย | E21: หญิง | F21: รวม
D22: =COUNTIF(C4:C22,"เด็กชาย") -> 6 | E22: =COUNTIF(C4:C22,"เด็กหญิง") -> 5 | F22: =SUBTOTAL(9,D22:E22) -> 11

Sheet ป.4
A1: รายชื่อนักเรียนโรงเรียนบ้านเหล่า ปีการศึกษา 2568
A2: ชั้นประถมศึกษาปีที่ 4
A3: ที่ | B3: เลขประจำตัวนักเรียน | D3: ชื่อ - | E3: นามสกุล | F3: หมายเหตุ
A4: 1 | B4: 3536 | C4: เด็กชาย | D4: กรเทพวิชญ์ | E4: เดชมนต์
A5: 2 | B5: 3520 | C5: เด็กชาย | D5: กวิน | E5: ภาชนนท์
A6: 3 | B6: 3521 | C6: เด็กชาย | D6: ณัฐนัย | E6: คำฟู
A7: 4 | B7: 3522 | C7: เด็กชาย | D7: ธนกฤต | E7: สระทองโน
A8: 5 | B8: 3523 | C8: เด็กชาย | D8: ธนภัทร | E8: ไคร้งาม
A9: 6 | B9: 3566 | C9: เด็กชาย | D9: ภัทรกร | E9: สุภาวะ
A10: 8 | B10: 3554 | C10: เด็กหญิง | D10: พิมญาดา | E10: ท้าวถึง
A11: 9 | B11: 3524 | C11: เด็กหญิง | D11: วรัญญา | E11: เครือมูล
A12: 10 | B12: 3525 | C12: เด็กหญิง | D12: ศุภาพิชญ์ | E12: สุจิธรรม
D24: จำนวนนักเรียนแยกตามเพศ
D25: ชาย | E25: หญิง | F25: รวม
D26: =COUNTIF(C4:C26,"เด็กชาย") -> 6 | E26: =COUNTIF(C5:C26,"เด็กหญิง") -> 3 | F26: =SUBTOTAL(9,D26:E26) -> 9

Sheet ป.5
A1: รายชื่อนักเรียนโรงเรียนบ้านเหล่า ปีการศึกษา 2568
A2: ชั้นประถมศึกษาปีที่ 5
A3: ที่ | B3: เลขประจำตัวนักเรียน | D3: ชื่อ - | E3: นามสกุล | F3: หมายเหตุ
A4: 1 | B4: 3489 | C4: เด็กชาย | D4: กิตติเดช | E4: อุปะนันท์
A5: 2 | B5: 3519 | C5: เด็กชาย | D5: ฐานิฏฐ์ | E5: สินเปียง
A6: 3 | B6: 3503 | C6: เด็กชาย | D6: ณัฐฤทธิ์ | E6: ตุ้ยเต็มวงค์
A7: 4 | B7: 3492 | C7: เด็กชาย | D7: ณัฐวัฒน์ | E7: ปวนเต็ม
A8: 5 | B8: 3493 | C8: เด็กชาย | D8: ธนภัทร | E8: ปิกจุมปู
A9: 6 | B9: 3504 | C9: เด็กชาย | D9: ธีรภัทร | E9: ทองคำ
A10: 7 | B10: 3538 | C10: เด็กชาย | D10: ปฏิภาณ | E10: สินเปียง
A11: 8 | B11: 3539 | C11: เด็กชาย | D11: ปริญญา | E11: วงศ์ใหญ่
A12: 9 | B12: 3494 | C12: เด็กชาย | D12: ศุภวิชญ์ | E12: ธิลาใจ
A13: 10 | B13: 3505 | C13: เด็กหญิง | D13: กัญญาวีร์ | E13: วิลัยบุญ
A14: 11 | B14: 3509 | C14: เด็กหญิง | D14: นลัทพร | E14: จิโนสา
A15: 12 | B15: 3498 | C15: เด็กหญิง | D15: ปภากานต์ | E15: เก็ดเรียน
... A18: 15 | B18: 3510 | C18: เด็กหญิง | D18: สลิลรดา | E18: หล้าเป็ง
D20: จำนวนนักเรียนแยกตามเพศ
D21: ชาย | E21: หญิง | F21: รวม
D22: =COUNTIF(C4:C22,"เด็กชาย") -> 9 | E22: =COUNTIF(C4:C22,"เด็กหญิง") -> 6 | F22: =SUBTOTAL(9,D22:E22) -> 15

Sheet ป.6
A1: รายชื่อนักเรียนโรงเรียนบ้านเหล่า ปีการศึกษา 2568
A2: ชั้นประถมศึกษาปีที่ 6
A3: ที่ | B3: เลขประจำตัวนักเรียน | D3: ชื่อ - | E3: นามสกุล | F3: หมายเหตุ
A4: 1 | B4: 3483 | C4: เด็กชาย | D4: กรวิชญ์ | E4: ปัญญา
A5: 2 | B5: 3484 | C5: เด็กชาย | D5: กันตพงศ์ | E5: สวยสม
A6: 3 | B6: 3471 | C6: เด็กชาย | D6: จิรวัฒน์ | E6: เล่ห์รักษ์
A7: 4 | B7: 3565 | C7: เด็กชาย | D7: จิราวัฒน์ | E7: ไชยบาล
A8: 5 | B8: 3472 | C8: เด็กชาย | D8: ฐาปกรณ์ | E8: เหล่าราชสวน
A9: 6 | B9: 3535 | C9: เด็กชาย | D9: ปิยังกูร | E9: จันทาพูน
A10: 7 | B10: 3511 | C10: เด็กชาย | D10: รชานนท์ | E10: สระทองโน
A11: 8 | B11: 3473 | C11: เด็กชาย | D11: ศิระพล | E11: ตะวิจัง
A12: 9 | B12: 3476 | C12: เด็กหญิง | D12: กชพร | E12: ใจลังก๋า
A13: 10 | B13: 3553 | C13: เด็กหญิง | D13: ขรินทร์ทิพย์ | E13: ตันแก้ว
A14: 11 | B14: 3485 | C14: เด็กหญิง | D14: ชนวรรณ | E14: มณีวันใจ
A15: 12 | B15: 3477 | C15: เด็กหญิง | D15: ชนิดาภา | E15: ต่อมดวงแก้ว
... A20: 17 | B20: 3537 | C20: เด็กหญิง | D20: ศุจินันท์ | E20: แสนไวยากรณ์
D25: จำนวนนักเรียนแยกตามเพศ
D26: ชาย | E26: หญิง | F26: รวม
D27: =COUNTIF(C4:C27,"เด็กชาย") -> 8 | E27: =COUNTIF(C4:C27,"เด็กหญิง") -> 9 | F27: =SUBTOTAL(9,D27:E27) -> 17

Sheet รวมแยกเพศ
B2: ข้อมูลจำนวนนักเรียนโรงเรียนบ้านเหล่า ปีการศึกษา 2568
B3: ณ วันที่ 24 พฤศจิกายน 2568
A5: ชั้น | B5: จำนวนนักเรียน | E5: จำนวนห้องเรียน
B6: เพศชาย | C6: เพศหญิง | D6: รวม
A7: อนุบาลปีที่ 1 | B7: =อ.1!D29 -> 9 | C7: =อ.1!E29 -> 3 | D7: =อ.1!F29 -> 12 | E7: 1
A8: อนุบาลปีที่ 2 | B8: =อ.2!D15 -> 3 | C8: =อ.2!E15 -> 0 | D8: =อ.2!F15 -> 3 | E8: 1
A9: อนุบาลปีที่ 3 | B9: =อ.3!D24 -> 7 | C9: =อ.3!E24 -> 5 | D9: =B9+C9 -> 12 | E9: 1
A10: ประถมศึกษาปีที่ 1 | B10: =ป.1!D26 -> 6 | C10: =ป.1!E26 -> 8 | D10: =B10+C10 -> 14 | E10: 1
A11: ประถมศึกษาปีที่ 2 | B11: =ป.2!D22 -> 5 | C11: =ป.2!E22 -> 6 | D11: =B11+C11 -> 11 | E11: 1
A12: ประถมศึกษาปีที่ 3 | B12: 6 | C12: 5 | D12: =B12+C12 -> 11 | E12: 1
A13: ประถมศึกษาปีที่ 4 | B13: =ป.4!D26 -> 6 | C13: =ป.4!E26 -> 3 | D13: =B13+C13 -> 9 | E13: 1
A14: ประถมศึกษาปีที่ 5 | B14: =ป.5!D22 -> 9 | C14: =ป.5!E22 -> 6 | D14: =B14+C14 -> 15 | E14: 1
A15: ประถมศึกษาปีที่ 6 | B15: =ป.6!D27 -> 8 | C15: =ป.6!E27 -> 9 | D15: =SUM(B15:C15) -> 17 | E15: 1
A16: จำนวนนักเรียนระดับปฐมวัย | B16: =B7+B8+B9 -> 19 | C16: =C7+C8+C9 -> 8 | D16: =D7+D8+D9 -> 27 | E16: =E7+E8+E9 -> 3
A17: จำนวนนักเรียนระดับประถมศึกษา | B17: =B10+B11+B12+B13+B14+B15 -> 40 | C17: =C10+C11+C12+C13+C14+C15 -> 37 | D17: =D10+D11+D12+D13+D14+D15 -> 77 | E17: =E10+E11+E12+E13+E14+E15 -> 6
A18: จำนวนนักเรียนทั้งหมด | B18: =B16+B17 -> 59 | C18: =C16+C17 -> 45 | D18: =D16+D17 -> 104 | E18: =SUM(E16:E17) -> 9
